BEGIN:VCALENDAR
VERSION:2.0
PRODID:-//MyPhotoClub - ECPv6.15.18//NONSGML v1.0//EN
CALSCALE:GREGORIAN
METHOD:PUBLISH
X-ORIGINAL-URL:https://myphotoclub.co.uk
X-WR-CALDESC:Events for MyPhotoClub
REFRESH-INTERVAL;VALUE=DURATION:PT1H
X-Robots-Tag:noindex
X-PUBLISHED-TTL:PT1H
BEGIN:VTIMEZONE
TZID:Europe/London
BEGIN:DAYLIGHT
TZOFFSETFROM:+0000
TZOFFSETTO:+0100
TZNAME:BST
DTSTART:20250330T010000
END:DAYLIGHT
BEGIN:STANDARD
TZOFFSETFROM:+0100
TZOFFSETTO:+0000
TZNAME:GMT
DTSTART:20251026T010000
END:STANDARD
BEGIN:DAYLIGHT
TZOFFSETFROM:+0000
TZOFFSETTO:+0100
TZNAME:BST
DTSTART:20260329T010000
END:DAYLIGHT
BEGIN:STANDARD
TZOFFSETFROM:+0100
TZOFFSETTO:+0000
TZNAME:GMT
DTSTART:20261025T010000
END:STANDARD
BEGIN:DAYLIGHT
TZOFFSETFROM:+0000
TZOFFSETTO:+0100
TZNAME:BST
DTSTART:20270328T010000
END:DAYLIGHT
BEGIN:STANDARD
TZOFFSETFROM:+0100
TZOFFSETTO:+0000
TZNAME:GMT
DTSTART:20271031T010000
END:STANDARD
END:VTIMEZONE
BEGIN:VEVENT
DTSTART;TZID=Europe/London:20260108T190000
DTEND;TZID=Europe/London:20260108T210000
DTSTAMP:20260421T143948
CREATED:20251222T201132Z
LAST-MODIFIED:20251223T063414Z
UID:11000223-1767898800-1767906000@myphotoclub.co.uk
SUMMARY:Janina Wilde - Seeing Architecture Differently: Creative Multiple Exposure Photography.
DESCRIPTION:See how architecture offers rhythm\, structure\, and repetition\, making it a perfect subject for creative multiple exposure photography. \n(As well as access to the live event\, you will automatically receive a link to the recording\, valid for 28 days) \nIn this inspiring talk\, Janina shares how buildings can be transformed from solid\, static forms into expressive\, layered images full of movement and emotion. \nUsing both in-camera multiple exposure and post-processing techniques\, she demonstrates how architectural details\, textures\, and patterns can be combined to create striking\, abstract interpretations of the built environment. \nJanina will take us through a day out in the city at this time of year – from kit she would take\, places to look to go to\, how techniques would change over the day – including finishing in the evening with Photoshop. \nEnjoy a rich selection of images and behind-the-scenes insights\, push your creativity and explore new ways of working. \nJanina Wilde is an award-winning educator with over 25 years of experience in education and 7 years specialising in multiple exposure photography. Founder of Wilde Photography Academy which offers online courses and in-person workshops in the UK and abroad. A passionate and engaging speaker\, Janina is known for inspiring photographers to see architecture – and creativity – in a whole new way.
URL:https://myphotoclub.co.uk/event/janina-wilde-seeing-architecture-differently-creative-multiple-exposure-photography/
LOCATION:Online
CATEGORIES:Talk
ATTACH;FMTTYPE=image/jpeg:https://myphotoclub.co.uk/wp-content/uploads/2025/12/duo-Janina.jpg
END:VEVENT
END:VCALENDAR