BEGIN:VCALENDAR
VERSION:2.0
PRODID:-//MyPhotoClub - ECPv6.15.18//NONSGML v1.0//EN
CALSCALE:GREGORIAN
METHOD:PUBLISH
X-WR-CALNAME:MyPhotoClub
X-ORIGINAL-URL:https://myphotoclub.co.uk
X-WR-CALDESC:Events for MyPhotoClub
REFRESH-INTERVAL;VALUE=DURATION:PT1H
X-Robots-Tag:noindex
X-PUBLISHED-TTL:PT1H
BEGIN:VTIMEZONE
TZID:Europe/London
BEGIN:DAYLIGHT
TZOFFSETFROM:+0000
TZOFFSETTO:+0100
TZNAME:BST
DTSTART:20250330T010000
END:DAYLIGHT
BEGIN:STANDARD
TZOFFSETFROM:+0100
TZOFFSETTO:+0000
TZNAME:GMT
DTSTART:20251026T010000
END:STANDARD
BEGIN:DAYLIGHT
TZOFFSETFROM:+0000
TZOFFSETTO:+0100
TZNAME:BST
DTSTART:20260329T010000
END:DAYLIGHT
BEGIN:STANDARD
TZOFFSETFROM:+0100
TZOFFSETTO:+0000
TZNAME:GMT
DTSTART:20261025T010000
END:STANDARD
BEGIN:DAYLIGHT
TZOFFSETFROM:+0000
TZOFFSETTO:+0100
TZNAME:BST
DTSTART:20270328T010000
END:DAYLIGHT
BEGIN:STANDARD
TZOFFSETFROM:+0100
TZOFFSETTO:+0000
TZNAME:GMT
DTSTART:20271031T010000
END:STANDARD
END:VTIMEZONE
BEGIN:VEVENT
DTSTART;TZID=Europe/London:20260423T190000
DTEND;TZID=Europe/London:20260423T210000
DTSTAMP:20260424T004725
CREATED:20260329T185712Z
LAST-MODIFIED:20260423T074456Z
UID:11000242-1776970800-1776978000@myphotoclub.co.uk
SUMMARY:Morag Paterson – Curious Conversations: The Hidden Life Of Forests (And Other Stories)
DESCRIPTION:Understand how curiosity\, experimentation and collaboration can improve and develop your approach to photographing the natural world. \n\n\n(As well as access to the live event\, you will automatically receive a link to the recording\, valid for 28 days) \n\n\nProjects are magical – Morag shares how this project began through conversations and time spent working with a forester and a soil scientist.  \n\n\nThis sparked a curiosity about what might be drifting through the forest atmosphere – spores\, pollen\, dust and other fragments of life – and how a photographer might begin to capture or respond to something so elusive. \n\n\nUsing a mixture of traditional photography and more playful techniques such as intentional camera movement (ICM)\, Morag began exploring ways of working with the images to take them beyond the forest ecosystem. \n\n\nConsider the value of working without fixed outcome\, how slowing down\, embracing uncertainty and allowing space for experimentation can influence both the creative process and the photographer’s relationship with the landscape. \n\n\nMorag Paterson is a Scottish photographer whose practice is driven by curiosity and experimentation. Her recent work exploring forest environments has been developed through interdisciplinary collaboration and has been recognised through selection for the Earth Photo Awards\, with exhibitions shown at the Royal Geographical Society in London and touring nationally across Forestry England and National Trust sites.
URL:https://myphotoclub.co.uk/event/morag-paterson-curious-conversations-the-hidden-life-of-forests-and-other-stories/
LOCATION:Online
CATEGORIES:Talk
ATTACH;FMTTYPE=image/jpeg:https://myphotoclub.co.uk/wp-content/uploads/2026/03/Morag-duo-2.jpg
END:VEVENT
END:VCALENDAR