BEGIN:VCALENDAR
VERSION:2.0
PRODID:-//MyPhotoClub - ECPv6.15.18//NONSGML v1.0//EN
CALSCALE:GREGORIAN
METHOD:PUBLISH
X-WR-CALNAME:MyPhotoClub
X-ORIGINAL-URL:https://myphotoclub.co.uk
X-WR-CALDESC:Events for MyPhotoClub
REFRESH-INTERVAL;VALUE=DURATION:PT1H
X-Robots-Tag:noindex
X-PUBLISHED-TTL:PT1H
BEGIN:VTIMEZONE
TZID:Europe/London
BEGIN:DAYLIGHT
TZOFFSETFROM:+0000
TZOFFSETTO:+0100
TZNAME:BST
DTSTART:20240331T010000
END:DAYLIGHT
BEGIN:STANDARD
TZOFFSETFROM:+0100
TZOFFSETTO:+0000
TZNAME:GMT
DTSTART:20241027T010000
END:STANDARD
BEGIN:DAYLIGHT
TZOFFSETFROM:+0000
TZOFFSETTO:+0100
TZNAME:BST
DTSTART:20250330T010000
END:DAYLIGHT
BEGIN:STANDARD
TZOFFSETFROM:+0100
TZOFFSETTO:+0000
TZNAME:GMT
DTSTART:20251026T010000
END:STANDARD
BEGIN:DAYLIGHT
TZOFFSETFROM:+0000
TZOFFSETTO:+0100
TZNAME:BST
DTSTART:20260329T010000
END:DAYLIGHT
BEGIN:STANDARD
TZOFFSETFROM:+0100
TZOFFSETTO:+0000
TZNAME:GMT
DTSTART:20261025T010000
END:STANDARD
END:VTIMEZONE
BEGIN:VEVENT
DTSTART;TZID=Europe/London:20250107T190000
DTEND;TZID=Europe/London:20250107T210000
DTSTAMP:20260425T020833
CREATED:20241116T080134Z
LAST-MODIFIED:20241221T054732Z
UID:10000118-1736276400-1736283600@myphotoclub.co.uk
SUMMARY:Lightroom Mastery with Joe Houghton (All 10 Workshops)
DESCRIPTION:(As well as access to the 10 live Workshops\, you will receive links to the recordings\, which will be valid forever) \nDo you want to improve your images? \nUse or ignore the new AI in Lightroom? \nLet Adobe Certified Expert\, Joe Houghton\, explain why & how. \nIn this comprehensive course\, you’ll learn how to store\, find and edit your images with confidence\, and utilise the full power of Adobe Lightroom Classic. \nDue to the fantastic improvements recently\, Lightroom is now the post-processing system of choice for many photographers\, even some of the best around today. \nThe live sessions will be held fortnightly on Tuesday from January 7th until May 20th 2025\, from 19:00pm (UK time). \n\nThere is one exception to this – the 29th April – so to confirm each of the dates: \nJan 7 – Importing & Organising \nJan 21 – Finding Images & Settings in detail \nFeb 4 – Develop Module & Global Editing \nFeb 18 – Selections & Masking Tools \nMar 4 – Intersect Tool & Panoramas \nMar 18 – People Masking\, A.I Remove & Exporting \nApr 1 – More Develop & Other Apps \nApr 15 – Mono Processing & Menus \nMay 6 – Book\, Slideshow & Print Modules \nMay 20 – Webpage & Exhibition Creation \n(Each workshop will have opportunities to submit your images to Joe for personal critique and/or editing) \nTHIS BOOKING IS FOR: All 10 Lightroom Mastery Workshops between 7th January and 20th May 2025\n\n(a reminder – if you can’t make any – the recordings are downloadable and valid for your personal use for a year) \n  \nThis is the fourth time we’re running this popular course and all the recent updates to Lightroom Classic will be included and explained in detail. \nWhether you’re new to Lightroom or in need of a refresh\, Joe will ensure the fundamentals are established correctly\, before moving onto the more advanced features of this post processing software.  \nJoe will share many tips & tricks that will improve your images and save you time and stress\, whatever your level of knowledge or experience. \nYou’ll have several opportunities to submit your images to Joe for personal critique and/or editing. \nJoe is an Adobe Certified Expert and has the ability to teach in a warm and engaging way that makes Lightroom clear\, understandable and immediately useable. \nIf you have any questions or would like more information\, please email roy@myphotoclub.co.uk. \nWe’ve had fantastic feedback from previous Lightroom Workshops: \nJayne (UK) – ‘I can thoroughly recommend Lightroom Mastery – Joe covers everything from the basics to the more advanced concepts\, and no question is too small. Joe is a great teacher and makes the whole experience very enjoyable.’ \nAndrea (Canada) – ‘I can do things now that I didn’t even know were possible!’ \nEd (USA) – ‘Watched many\, many\, videos on Lightroom – nothing has been as comprehensive\, practical and useful as this.
URL:https://myphotoclub.co.uk/event/lightroom-mastery-with-joe-houghton-10-workshops/
LOCATION:Online
CATEGORIES:Event
ATTACH;FMTTYPE=image/jpeg:https://myphotoclub.co.uk/wp-content/uploads/2023/12/Joe-Lr-iii-duo-scaled-jpg.webp
END:VEVENT
BEGIN:VEVENT
DTSTART;TZID=Europe/London:20250107T190000
DTEND;TZID=Europe/London:20250107T210000
DTSTAMP:20260425T020833
CREATED:20241221T032233Z
LAST-MODIFIED:20241221T073724Z
UID:10000126-1736276400-1736283600@myphotoclub.co.uk
SUMMARY:Lightroom Mastery - Joe Houghton.  Workshop 1 of 10\, Importing & Organising
DESCRIPTION:Set up or reorganise Lightroom Classic. Import your images. Let Adobe Certified Expert and tutor\, Joe Houghton\, show how best\, and why. \n(As well as access to this live Workshop\, you will receive a link to the recording\, which will be valid for 12 months) \nThis whole comprehensive series of workshops will teach you how to store\, find and edit your images with confidence\, and utilise the full power of Adobe Lightroom Classic. \nAvailable as a whole\, or choose which workshops suit your personal need to learn more\, update\, or focus on your particular interests. \nDue to the fantastic improvements recently\, Lightroom is now the post-processing system of choice for many photographers\, even some of the best around today. \nThe live sessions will be held fortnightly on Tuesday from January 7th until May 20th\, 2025\, from 19:00pm (UK time). \nThere is one exception to this – the 29th April – so to confirm each of the dates: \nJan 7 – Importing & Organising \nJan 21 – Finding Images & Settings in detail \nFeb 4 – Develop Module & Global Editing \nFeb 18 – Selections & Masking Tools \nMar 4 – Intersect Tool & Panoramas \nMar 18 – People Masking\, A.I Remove & Exporting \nApr 1 – More Develop & Other Apps \nApr 15 – Mono Processing & Menus \nMay 6 – Book\, Slideshow & Print Modules \nMay 20 – Webpage & Exhibition Creation \n(Each workshop will have opportunities to submit your images to Joe for personal critique and/or editing) \nTHIS BOOKING IS FOR: Workshop 1 of 10\, Importing & Organising 7th January 2025\nThis is the fourth time MPC has run this very popular course and all of the recent updates to Lightroom Classic will be included and explained in detail. \nWhether you’re new to Lightroom or in need of a refresh\, Joe Houghton will ensure the fundamentals are established correctly\, before moving onto the more advanced features of this excellent post processing software. \nJoe will share many tips & tricks that will improve your images and save you time and stress\, whatever your level of knowledge or experience. \nJoe is an Adobe Certified Expert and has the ability to teach in a warm and engaging way that makes Lightroom clear\, understandable and immediately useable. \nIf you have any questions or would like more information\, please email roy@myphotoclub.co.uk. \nWe’ve had fantastic feedback from previous Lightroom Workshops: \nJayne (UK) – ‘I can thoroughly recommend Lightroom Mastery – Joe covers everything from the basics to the more advanced concepts\, and no question is too small. Joe is a great teacher and makes the whole experience very enjoyable.’ \nAndrea (Canada) – ‘I can do things now that I didn’t even know were possible!’ \nEd (USA) – ‘Watched many\, many\, videos on Lightroom – nothing has been as comprehensive\, practical and useful as this.
URL:https://myphotoclub.co.uk/event/lightroom-mastery-joe-houghton-workshop-1-of-10-importing-organising/
LOCATION:Online
CATEGORIES:Event
ATTACH;FMTTYPE=image/jpeg:https://myphotoclub.co.uk/wp-content/uploads/2023/12/Joe-Lr-iii-duo-scaled-jpg.webp
END:VEVENT
BEGIN:VEVENT
DTSTART;TZID=Europe/London:20250116T150000
DTEND;TZID=Europe/London:20250116T163000
DTSTAMP:20260425T020833
CREATED:20241223T073917Z
LAST-MODIFIED:20241224T133916Z
UID:10000136-1737039600-1737045000@myphotoclub.co.uk
SUMMARY:Photoshop Q&A and Critique Session with Jonathan Vaines
DESCRIPTION:(As well as access to the live event\, you will receive a link to the recording\, valid for 14 days) \nAny questions about using Photoshop? Would expert feedback on your post-processing help you improve the photographic results that you want? \nAdobe Photoshop is the most comprehensive and successful photographic editing program ever built. \nDo you sometimes struggle to fully use the processes that would most suit your style or genre? \nJonathan will answer your Photoshop questions at these monthly sessions which are scheduled for Thursdays at 15:00 UK time\, 16th January\, 20th February\, 20th March\, 17th April\, 15th May. \nTHIS BOOKING IS FOR: Photoshop Q&A and Critique Session – 16th January 2025\nQuestions\, or images for critique\, to be sent 7 days earlier to hello@myphotoclub.co.uk \nFeedback on Jonathan’s sessions for MyPhotoClub: \nKay – Jonathan’s patient approach to his subject helps demystify the many facets of Photoshop\, builds confidence and encourages you to try new things. \nVal – I have watched endless videos on PS and have been using it for a number of years\, but I have learnt so much more from Jonathan. \nPaul – I was stunned by the quality and range of knowledge and the way it is presented. It has increased my knowledge of Photoshop exponentially \nJonathan Vaines is an internationally recognised and accredited photographer. He also works as a photographic educator and regularly runs workshops for Societies\, Clubs\, Federations and Alliances throughout the world\, as well as teaching 1:1. \nHe is affiliated to DxO the maker of photographic editing software including the NIK Collection\, WEX Video and Photo\, Jessops and Cartridge Monkey. He is an A panel National Judge and a Permajet sponsored lecturer who travels throughout the UK visiting over 100 clubs each year.  He is also a member of The London Salon of Photography.
URL:https://myphotoclub.co.uk/event/photoshop-qa-and-critique-session-with-jonathan-vaines/
LOCATION:Online
CATEGORIES:Event
ATTACH;FMTTYPE=image/jpeg:https://myphotoclub.co.uk/wp-content/uploads/2024/12/JV-duo-Brightlingsea.jpg
END:VEVENT
BEGIN:VEVENT
DTSTART;TZID=Europe/London:20250121T190000
DTEND;TZID=Europe/London:20250121T210000
DTSTAMP:20260425T020833
CREATED:20241221T053453Z
LAST-MODIFIED:20241227T055624Z
UID:10000127-1737486000-1737493200@myphotoclub.co.uk
SUMMARY:Lightroom Mastery - Joe Houghton.  Workshop 2 of 10\, Finding & Settings
DESCRIPTION:Finding your images & learn the Settings in detail. Let Adobe Certified Expert and tutor\, Joe Houghton\, show how\, and why. \n(As well as access to this live Workshop\, you will receive a link to the recording\, which will be valid for 12 months) \nThis whole comprehensive series of workshops will teach you how to store\, find and edit your images with confidence\, and utilise the full power of Adobe Lightroom Classic. \nAvailable as a whole\, or choose which workshops suit your personal need to learn more\, update\, or focus on your particular interests. \nDue to the fantastic improvements recently\, Lightroom is now the post-processing system of choice for many photographers\, even some of the best around today. \nThe live sessions will be held fortnightly on Tuesday from January 7th until May 20th\, 2025\, from 19:00pm (UK time). \nThere is one exception to this – the 29th April – so to confirm each of the dates: \nJan 7 – Importing & Organising \nJan 21 – Finding Images & Settings in detail \nFeb 4 – Develop Module & Global Editing \nFeb 18 – Selections & Masking Tools \nMar 4 – Intersect Tool & Panoramas \nMar 18 – People Masking\, A.I Remove & Exporting \nApr 1 – More Develop & Other Apps \nApr 15 – Mono Processing & Menus \nMay 6 – Book\, Slideshow & Print Modules \nMay 20 – Webpage & Exhibition Creation \n(Each workshop will have opportunities to submit your images to Joe for personal critique and/or editing) \nTHIS BOOKING IS FOR: Workshop 2 of 10\, Finding Images & Settings in detail – 21st January 2025\nThis is the fourth time MPC has run this very popular course and all of the recent updates to Lightroom Classic will be included and explained in detail. \nWhether you’re new to Lightroom or in need of a refresh\, Joe Houghton will ensure the fundamentals are established correctly\, before moving onto the more advanced features of this excellent post processing software. \nJoe will share many tips & tricks that will improve your images and save you time and stress\, whatever your level of knowledge or experience. \nJoe is an Adobe Certified Expert and has the ability to teach in a warm and engaging way that makes Lightroom clear\, understandable and immediately useable. \nIf you have any questions or would like more information\, please email roy@myphotoclub.co.uk. \nWe’ve had fantastic feedback from previous Lightroom Workshops: \nJayne (UK) – ‘I can thoroughly recommend Lightroom Mastery – Joe covers everything from the basics to the more advanced concepts\, and no question is too small. Joe is a great teacher and makes the whole experience very enjoyable.’ \nAndrea (Canada) – ‘I can do things now that I didn’t even know were possible!’ \nEd (USA) – ‘Watched many\, many\, videos on Lightroom – nothing has been as comprehensive\, practical and useful as this.
URL:https://myphotoclub.co.uk/event/lightroom-mastery-joe-houghton-workshop-2-of-10-finding-settings/
LOCATION:Online
CATEGORIES:Event
ATTACH;FMTTYPE=image/jpeg:https://myphotoclub.co.uk/wp-content/uploads/2023/12/Joe-Lr-iii-duo-scaled-jpg.webp
END:VEVENT
END:VCALENDAR