BEGIN:VCALENDAR
VERSION:2.0
PRODID:-//MyPhotoClub - ECPv6.15.18//NONSGML v1.0//EN
CALSCALE:GREGORIAN
METHOD:PUBLISH
X-WR-CALNAME:MyPhotoClub
X-ORIGINAL-URL:https://myphotoclub.co.uk
X-WR-CALDESC:Events for MyPhotoClub
REFRESH-INTERVAL;VALUE=DURATION:PT1H
X-Robots-Tag:noindex
X-PUBLISHED-TTL:PT1H
BEGIN:VTIMEZONE
TZID:Europe/London
BEGIN:DAYLIGHT
TZOFFSETFROM:+0000
TZOFFSETTO:+0100
TZNAME:BST
DTSTART:20240331T010000
END:DAYLIGHT
BEGIN:STANDARD
TZOFFSETFROM:+0100
TZOFFSETTO:+0000
TZNAME:GMT
DTSTART:20241027T010000
END:STANDARD
BEGIN:DAYLIGHT
TZOFFSETFROM:+0000
TZOFFSETTO:+0100
TZNAME:BST
DTSTART:20250330T010000
END:DAYLIGHT
BEGIN:STANDARD
TZOFFSETFROM:+0100
TZOFFSETTO:+0000
TZNAME:GMT
DTSTART:20251026T010000
END:STANDARD
BEGIN:DAYLIGHT
TZOFFSETFROM:+0000
TZOFFSETTO:+0100
TZNAME:BST
DTSTART:20260329T010000
END:DAYLIGHT
BEGIN:STANDARD
TZOFFSETFROM:+0100
TZOFFSETTO:+0000
TZNAME:GMT
DTSTART:20261025T010000
END:STANDARD
END:VTIMEZONE
BEGIN:VEVENT
DTSTART;TZID=Europe/London:20250116T150000
DTEND;TZID=Europe/London:20250116T163000
DTSTAMP:20260425T050422
CREATED:20241223T073917Z
LAST-MODIFIED:20241224T133916Z
UID:10000136-1737039600-1737045000@myphotoclub.co.uk
SUMMARY:Photoshop Q&A and Critique Session with Jonathan Vaines
DESCRIPTION:(As well as access to the live event\, you will receive a link to the recording\, valid for 14 days) \nAny questions about using Photoshop? Would expert feedback on your post-processing help you improve the photographic results that you want? \nAdobe Photoshop is the most comprehensive and successful photographic editing program ever built. \nDo you sometimes struggle to fully use the processes that would most suit your style or genre? \nJonathan will answer your Photoshop questions at these monthly sessions which are scheduled for Thursdays at 15:00 UK time\, 16th January\, 20th February\, 20th March\, 17th April\, 15th May. \nTHIS BOOKING IS FOR: Photoshop Q&A and Critique Session – 16th January 2025\nQuestions\, or images for critique\, to be sent 7 days earlier to hello@myphotoclub.co.uk \nFeedback on Jonathan’s sessions for MyPhotoClub: \nKay – Jonathan’s patient approach to his subject helps demystify the many facets of Photoshop\, builds confidence and encourages you to try new things. \nVal – I have watched endless videos on PS and have been using it for a number of years\, but I have learnt so much more from Jonathan. \nPaul – I was stunned by the quality and range of knowledge and the way it is presented. It has increased my knowledge of Photoshop exponentially \nJonathan Vaines is an internationally recognised and accredited photographer. He also works as a photographic educator and regularly runs workshops for Societies\, Clubs\, Federations and Alliances throughout the world\, as well as teaching 1:1. \nHe is affiliated to DxO the maker of photographic editing software including the NIK Collection\, WEX Video and Photo\, Jessops and Cartridge Monkey. He is an A panel National Judge and a Permajet sponsored lecturer who travels throughout the UK visiting over 100 clubs each year.  He is also a member of The London Salon of Photography.
URL:https://myphotoclub.co.uk/event/photoshop-qa-and-critique-session-with-jonathan-vaines/
LOCATION:Online
CATEGORIES:Event
ATTACH;FMTTYPE=image/jpeg:https://myphotoclub.co.uk/wp-content/uploads/2024/12/JV-duo-Brightlingsea.jpg
END:VEVENT
END:VCALENDAR