BEGIN:VCALENDAR
VERSION:2.0
PRODID:-//MyPhotoClub - ECPv6.15.18//NONSGML v1.0//EN
CALSCALE:GREGORIAN
METHOD:PUBLISH
X-ORIGINAL-URL:https://myphotoclub.co.uk
X-WR-CALDESC:Events for MyPhotoClub
REFRESH-INTERVAL;VALUE=DURATION:PT1H
X-Robots-Tag:noindex
X-PUBLISHED-TTL:PT1H
BEGIN:VTIMEZONE
TZID:Europe/London
BEGIN:DAYLIGHT
TZOFFSETFROM:+0000
TZOFFSETTO:+0100
TZNAME:BST
DTSTART:20220327T010000
END:DAYLIGHT
BEGIN:STANDARD
TZOFFSETFROM:+0100
TZOFFSETTO:+0000
TZNAME:GMT
DTSTART:20221030T010000
END:STANDARD
BEGIN:DAYLIGHT
TZOFFSETFROM:+0000
TZOFFSETTO:+0100
TZNAME:BST
DTSTART:20230326T010000
END:DAYLIGHT
BEGIN:STANDARD
TZOFFSETFROM:+0100
TZOFFSETTO:+0000
TZNAME:GMT
DTSTART:20231029T010000
END:STANDARD
BEGIN:DAYLIGHT
TZOFFSETFROM:+0000
TZOFFSETTO:+0100
TZNAME:BST
DTSTART:20240331T010000
END:DAYLIGHT
BEGIN:STANDARD
TZOFFSETFROM:+0100
TZOFFSETTO:+0000
TZNAME:GMT
DTSTART:20241027T010000
END:STANDARD
END:VTIMEZONE
BEGIN:VEVENT
DTSTART;TZID=Europe/London:20231102T190000
DTEND;TZID=Europe/London:20231102T210000
DTSTAMP:20260425T142346
CREATED:20231019T150334Z
LAST-MODIFIED:20231023T124307Z
UID:10000026-1698951600-1698958800@myphotoclub.co.uk
SUMMARY:Morag Paterson - ‘Zero Footprints’
DESCRIPTION:You’re invited on an enchanting journey with Morag\, an experimental and creative photographer\, who passionately explores her sense of place. \nIn this engaging presentation\, she will share her 14 year exploration of the Southern Uplands of Scotland\, the landscape she calls home – showcasing a variety of creative and experimental techniques. \nYou’ll learn about her approach to traditional photography as well as alternative processes such as intentional camera movement (ICM)\, multiple exposures anthotypes\, macro and collaborating with Artificial Intelligence. \nHer work will inspire you to see the world through a different lens as you’ll discover different ways to embrace the concept of ‘local’\, gaining a deeper appreciation of your immediate surroundings. \nMorag will also provide a fascinating peek into the life of an artist-in-residence\, giving you an insider’s view of her experiences and challenges. \nWhether you’re an amateur photographer or a seasoned pro\, Morag’s insights will spark your creativity and open your eyes to the extraordinary beauty that lies on your doorstep! \nMorag is an experienced mentor and workshop leader and a co-host of the ICMPhotoMag Network Community and ICM Photo Academy. She also stewards a landscape restoration project with her husband Ted Leeming.
URL:https://myphotoclub.co.uk/event/morag-paterson-zero-footprints/
LOCATION:Online
CATEGORIES:Talk
ATTACH;FMTTYPE=image/jpeg:https://myphotoclub.co.uk/wp-content/uploads/2023/10/Morag-duo-4-scaled-jpg.webp
END:VEVENT
BEGIN:VEVENT
DTSTART;TZID=Europe/London:20231109T190000
DTEND;TZID=Europe/London:20231109T210000
DTSTAMP:20260425T142346
CREATED:20231030T094306Z
LAST-MODIFIED:20231030T094359Z
UID:10000030-1699556400-1699563600@myphotoclub.co.uk
SUMMARY:Brian Lloyd Duckett -  ’20 Things I’ve Learnt in 20 years as a Street Photographer’.
DESCRIPTION:Join us for a lively talk with Brian\, a seasoned pro\, as he shares 2 decades of street photography wisdom\, alongside his captivating images. \nBrian has been a professional documentary and street photographer for over 20 years and in this engaging talk\, he shares the 20 invaluable lessons he has learnt along the way. \nHis street photography style is uniquely observational and delightfully quirky – he says he is ‘more interested in human behaviour than in random people walking through streaks of light’. \nWhether you’re a novice eager to explore street photography\, or an experienced practitioner seeking fresh insights\, this talk offers something for everyone. \nThe evening will be packed with a wealth of inspiring images and practical tips\, so you should leave equipped to elevate your street photography to the next level. \nThe session will end with a Q&A session where you’ll get the opportunity to pick Brian’s expert brain! \nAs well as a successful street photographer\, Brian is a photojournalist and writer. He founded ‘StreetSnappers’ and authored 5 best-selling street photography books. He runs 70-80 documentary and street photography workshops every year and he lectures widely.
URL:https://myphotoclub.co.uk/event/brian-lloyd-duckett-20-things-ive-learnt-in-20-years-as-a-street-photographer/
LOCATION:Online
CATEGORIES:Talk
ATTACH;FMTTYPE=image/jpeg:https://myphotoclub.co.uk/wp-content/uploads/2023/10/Brian-duo-scaled-jpg.webp
END:VEVENT
BEGIN:VEVENT
DTSTART;TZID=Europe/London:20231116T190000
DTEND;TZID=Europe/London:20231116T210000
DTSTAMP:20260425T142346
CREATED:20231104T120057Z
LAST-MODIFIED:20231104T120057Z
UID:10000031-1700161200-1700168400@myphotoclub.co.uk
SUMMARY:Paul Mitchell - ’Confessions of a Landscape Photographer’
DESCRIPTION:(As well as access to the live event\, you will receive a link to the recording\, which will be valid for 14 days) \nPrepared to be inspired\, as professional photographer Paul Mitchell\, shares the secrets behind his remarkable work in this illustrated talk! \nDiscover how Paul researches and plans before embarking on his landscape photography trips. And how this might change for different locations\, such as coastal landscapes\, woodlands and more. \nGain an exclusive peek into the techniques he uses to compose his beautiful landscapes – he’ll share how he makes his images truly captivating. You’ll also learn how he adapts to capture his images under varying weather conditions. \nPaul will reveal the digital tools\, software apps\, filters and equipment he uses to enhance and perfect his photography – find out how technology can be your ally in your quest for breathtaking images. \nWhether you’re a seasoned pro or a budding enthusiast\, this talk promises to elevate your landscape photography game! \nAfter a successful career in Graphic Design\, Paul Mitchell has evolved into a professional photographer and teacher. His work is frequently exhibited in the UK and published in photography magazines. Paul is a Fellow of the RPS and Chair of the Landscape Distinctions panel.
URL:https://myphotoclub.co.uk/event/paul-mitchell-confessions-of-a-landscape-photographer/
LOCATION:Online
CATEGORIES:Talk
ATTACH;FMTTYPE=image/jpeg:https://myphotoclub.co.uk/wp-content/uploads/2023/11/Paul-duo-scaled-jpg.webp
END:VEVENT
BEGIN:VEVENT
DTSTART;TZID=Europe/London:20231123T190000
DTEND;TZID=Europe/London:20231123T210000
DTSTAMP:20260425T142346
CREATED:20231111T122250Z
LAST-MODIFIED:20231111T122250Z
UID:10000032-1700766000-1700773200@myphotoclub.co.uk
SUMMARY:Chris Upton -  ’The Way I See It’
DESCRIPTION:(As well as access to the live event\, you will receive a link to the recording\, which will be valid for 14 days) \nGain invaluable insights into how award-winning travel\, landscape and social documentary photographer\, Chris creates his captivating images. \nDrawing on over three decades of experience\, including 10 years of teaching and leading tours\, Chris addresses the fundamental question he’s often asked: ‘How do you see a picture?’ \nMost people are thinking about composition when asking this question\, but Chris believes that creating a good photograph requires so much more than that. \nIn this talk\, he unveils a powerful 7-step plan brimming with indispensable hints and tips\, designed to help you achieve better images. It’s a roadmap to help you evaluate where you are on your photographic journey and where you want to go. \nBy the end of this enlightening talk\, you should feel inspired to continue developing your skills\, elevating your photography to the next level. \nChris Upton is an Associate of the RPS and is proud to have been a brand ambassador for Fujifilm for eight years. His images are represented by stock agencies and used by many clients around the world. As a natural communicator he’s a sought after Speaker and Tutor and runs international workshops and tours.
URL:https://myphotoclub.co.uk/event/chris-upton-the-way-i-see-it/
LOCATION:Online
CATEGORIES:Talk
ATTACH;FMTTYPE=image/jpeg:https://myphotoclub.co.uk/wp-content/uploads/2023/11/Chris-ad-scaled-jpg.webp
END:VEVENT
BEGIN:VEVENT
DTSTART;TZID=Europe/London:20231130T190000
DTEND;TZID=Europe/London:20231130T210000
DTSTAMP:20260425T142346
CREATED:20231115T134900Z
LAST-MODIFIED:20231115T135101Z
UID:10000034-1701370800-1701378000@myphotoclub.co.uk
SUMMARY:Mark Littlejohn - ‘A Guide To Split Toning For More Atmospheric Images'
DESCRIPTION:(As well as access to the live event\, you will receive a link to the recording\, which will be valid for 14 days) \n Learn from this session as Mark shares how he uses split toning in his images and why it is a very personal way of treating an image. \n“I was a detective for 26 years and took up photography quite late in life. In some respects\, I wish I’d taken it up sooner\, but in others I’m happy I came to it later. \nIt allowed me to do things the way I wanted to. I live with my wife and dog 150 yards from a beach in a remote corner of the Highlands. I run the occasional workshop\, and the majority of my time is spent doing things that I enjoy. \nMark is a previous winner of the Take-a-View UK Landscape Photographer of the Year\, and during the last few years eleven of his images have received Judges Commendations in the awards\, along with two being highly commended and another image being runner up in the Classic View in 2015. \nHis work has been featured in a variety of national magazines and he has also written several articles in relation to landscape photography and his particular approach to it.
URL:https://myphotoclub.co.uk/event/mark-littlejohn-a-guide-to-split-toning-for-more-atmospheric-images/
LOCATION:Online
CATEGORIES:Talk
ATTACH;FMTTYPE=image/jpeg:https://myphotoclub.co.uk/wp-content/uploads/2023/11/Mark-duo-1611-1-scaled-jpg.webp
END:VEVENT
END:VCALENDAR