BEGIN:VCALENDAR
VERSION:2.0
PRODID:-//MyPhotoClub - ECPv6.15.18//NONSGML v1.0//EN
CALSCALE:GREGORIAN
METHOD:PUBLISH
X-WR-CALNAME:MyPhotoClub
X-ORIGINAL-URL:https://myphotoclub.co.uk
X-WR-CALDESC:Events for MyPhotoClub
REFRESH-INTERVAL;VALUE=DURATION:PT1H
X-Robots-Tag:noindex
X-PUBLISHED-TTL:PT1H
BEGIN:VTIMEZONE
TZID:Europe/London
BEGIN:DAYLIGHT
TZOFFSETFROM:+0000
TZOFFSETTO:+0100
TZNAME:BST
DTSTART:20220327T010000
END:DAYLIGHT
BEGIN:STANDARD
TZOFFSETFROM:+0100
TZOFFSETTO:+0000
TZNAME:GMT
DTSTART:20221030T010000
END:STANDARD
BEGIN:DAYLIGHT
TZOFFSETFROM:+0000
TZOFFSETTO:+0100
TZNAME:BST
DTSTART:20230326T010000
END:DAYLIGHT
BEGIN:STANDARD
TZOFFSETFROM:+0100
TZOFFSETTO:+0000
TZNAME:GMT
DTSTART:20231029T010000
END:STANDARD
BEGIN:DAYLIGHT
TZOFFSETFROM:+0000
TZOFFSETTO:+0100
TZNAME:BST
DTSTART:20240331T010000
END:DAYLIGHT
BEGIN:STANDARD
TZOFFSETFROM:+0100
TZOFFSETTO:+0000
TZNAME:GMT
DTSTART:20241027T010000
END:STANDARD
END:VTIMEZONE
BEGIN:VEVENT
DTSTART;TZID=Europe/London:20231207T190000
DTEND;TZID=Europe/London:20231207T210000
DTSTAMP:20260425T030308
CREATED:20231115T192937Z
LAST-MODIFIED:20231115T193321Z
UID:10000035-1701975600-1701982800@myphotoclub.co.uk
SUMMARY:Kaisa Sirén - 'Forest Tales – Storytelling With Intentional Camera Movement'
DESCRIPTION:(As well as access to the live event\, you will receive a link to the recording\, which will be valid for 14 days) \nKaisa shares examples of her stories which have all been created with using I.C.M. (Intentional Camera Movement) as the main technique. \nShe will demonstrate how you can put together a cohesive series\, telling a strong story\, even if the images are abstractions or non-representational. \nKaisa’s background as a photojournalist gives a strong experience in documentary storytelling\, and now\, as an artist\, she uses it to tell stories with more abstract images. \nShe will go through what ties images together as a series\, and how ICM images interpret a story. \nKaisa Sirén is a photographic artist who uses northern sceneries of Finland as her backdrop\, focusing on themes related to the seasons of Lapland\, and the sensitivity of nature. \nKaisa works as a freelance photographer and is widely published in various Finnish magazines and newspapers and has had several solo and group exhibitions. \nShe owns and runs her own gallery in Rovaniemi and is member of the quarterly ICMPhotomag publishing team. Teaches courses on ICM photography and does mentoring\, both in person and on-line.
URL:https://myphotoclub.co.uk/event/kaisa-siren-forest-tales-storytelling-with-intentional-camera-movement/
LOCATION:Online
CATEGORIES:Talk
ATTACH;FMTTYPE=image/jpeg:https://myphotoclub.co.uk/wp-content/uploads/2023/11/Kaisa-duo-scaled-jpg.webp
END:VEVENT
BEGIN:VEVENT
DTSTART;TZID=Europe/London:20231214T190000
DTEND;TZID=Europe/London:20231214T210000
DTSTAMP:20260425T030308
CREATED:20231115T205854Z
LAST-MODIFIED:20231204T070800Z
UID:10000036-1702580400-1702587600@myphotoclub.co.uk
SUMMARY:Barbie Lindsay - ‘Creative Photography'
DESCRIPTION:(As well as access to the live event\, you will receive a link to the recording\, whichwill be valid for 14 days) \nBarbie is a photographic obsessive. She lives and thrives on the photographic medium. Her world is seen through the eye of the lens. \nBarbie says her life totally revolves around her love of photography.  She currently works for a photography company as a digital imaging specialist. \nHer love of photography covers every genre which has developed over the years. She judges and lectures nationally and internationally\, as well as being a regular participant in exhibitions. \nHer biggest achievement to date must be being part of the Gold medal winning team\, representing Britain in the worldwide FIAP biennial print competition. \nIn the same competition she also won an individual silver medal. She has had numerous photographs published in books and newspapers\, including one image used as a phone card. \nBarbie is a founder member of the very successful ‘Beyond Group’\, which encourages the furtherance of the talent of its select membership.
URL:https://myphotoclub.co.uk/event/barbie-lindsay-creative-photography/
LOCATION:Online
CATEGORIES:Talk
ATTACH;FMTTYPE=image/jpeg:https://myphotoclub.co.uk/wp-content/uploads/2023/11/Barbie-ad-scaled-jpg.webp
END:VEVENT
BEGIN:VEVENT
DTSTART;TZID=Europe/London:20231221T190000
DTEND;TZID=Europe/London:20231221T210000
DTSTAMP:20260425T030308
CREATED:20231116T072801Z
LAST-MODIFIED:20231207T081023Z
UID:10000037-1703185200-1703192400@myphotoclub.co.uk
SUMMARY:Glenys Garnett – ‘Urban Abstracts'
DESCRIPTION:(As well as access to the live event\, you will receive a link to the recording which will be valid for 14 days) \nGlenys shares ideas and methods for creating interesting abstracts in the urban environment using straight and multiple exposure photography. \n“It’s all about learning to see in different ways by concentrating on key elements like\, shapes\, form\, structure\, lines\, texture etc. to develop an ‘abstract eye’”. \nGlenys Garnett is a freelance visual artist and photographer; a great advocate of sharing knowledge and encouraging others to develop and improve their creative and artistic  photography skills. \nCapturing an image is just the starting point\, she often makes use of techniques like ICM (Intentional Camera Movement)\, Multiple Exposure and Compositing techniques\, both in camera and software. \nGlenys has a First Class BA (Hons) Degree in Graphic Communication from Leeds Metropolitan University.
URL:https://myphotoclub.co.uk/event/glenys-garnett-urban-abstracts/
LOCATION:Online
CATEGORIES:Talk
ATTACH;FMTTYPE=image/jpeg:https://myphotoclub.co.uk/wp-content/uploads/2023/11/Glenys-duo-3-scaled-jpg.webp
END:VEVENT
END:VCALENDAR