BEGIN:VCALENDAR
VERSION:2.0
PRODID:-//MyPhotoClub - ECPv6.15.18//NONSGML v1.0//EN
CALSCALE:GREGORIAN
METHOD:PUBLISH
X-WR-CALNAME:MyPhotoClub
X-ORIGINAL-URL:https://myphotoclub.co.uk
X-WR-CALDESC:Events for MyPhotoClub
REFRESH-INTERVAL;VALUE=DURATION:PT1H
X-Robots-Tag:noindex
X-PUBLISHED-TTL:PT1H
BEGIN:VTIMEZONE
TZID:Europe/London
BEGIN:DAYLIGHT
TZOFFSETFROM:+0000
TZOFFSETTO:+0100
TZNAME:BST
DTSTART:20230326T010000
END:DAYLIGHT
BEGIN:STANDARD
TZOFFSETFROM:+0100
TZOFFSETTO:+0000
TZNAME:GMT
DTSTART:20231029T010000
END:STANDARD
BEGIN:DAYLIGHT
TZOFFSETFROM:+0000
TZOFFSETTO:+0100
TZNAME:BST
DTSTART:20240331T010000
END:DAYLIGHT
BEGIN:STANDARD
TZOFFSETFROM:+0100
TZOFFSETTO:+0000
TZNAME:GMT
DTSTART:20241027T010000
END:STANDARD
BEGIN:DAYLIGHT
TZOFFSETFROM:+0000
TZOFFSETTO:+0100
TZNAME:BST
DTSTART:20250330T010000
END:DAYLIGHT
BEGIN:STANDARD
TZOFFSETFROM:+0100
TZOFFSETTO:+0000
TZNAME:GMT
DTSTART:20251026T010000
END:STANDARD
END:VTIMEZONE
BEGIN:VEVENT
DTSTART;TZID=Europe/London:20240201T190000
DTEND;TZID=Europe/London:20240201T210000
DTSTAMP:20260423T203310
CREATED:20240106T190358Z
LAST-MODIFIED:20240106T190358Z
UID:10000045-1706814000-1706821200@myphotoclub.co.uk
SUMMARY:John & Lisa Merrill - 'Evocative Travel Photography'
DESCRIPTION:(As well as access to the live event\, you will receive a link to the recording\, which will be valid for 14 days) \nLearn to create compelling visual stories of places you explore and people you meet\, with professional travel photographers\, the Merrills. \nUsing examples from their assignments and adventures around the world\, John and Lisa will help you harness the transformative power of light\, compose for impact\, and intentionally make (versus take) evocative travel photos. \nYou’ll get tips for intriguing landscape\, portrait\, architectural and street photography\, and explore approaches to create stunning imagery at chaotic markets and crowded cultural events. \nIn addition\, they will share techniques for organising your photos and combining them into captivating stories of your travel adventures to treasure and share. \nJohn and Lisa will also discuss ways to use travel photography to foster enduring connections and benefit the communities you visit. \nDon’t miss this exciting opportunity to discover new ways of seeing and photographing\, expand your visual toolbox\, and nourish your creativity! \nJohn and Lisa Merrill are travel and social impact photographers and inspiring educators. Their work is used by travel destinations\, outdoor adventure companies and non-profits\, and featured in books and magazines around the world. \nMerrill Images is a Transformative Travel Council Ally and a member of the North American Nature Photographer’s Association.
URL:https://myphotoclub.co.uk/event/john-lisa-merrill-evocative-travel-photography/
LOCATION:Online
CATEGORIES:Talk
ATTACH;FMTTYPE=image/jpeg:https://myphotoclub.co.uk/wp-content/uploads/2024/01/John-Lisa-duo-scaled-jpg.webp
END:VEVENT
BEGIN:VEVENT
DTSTART;TZID=Europe/London:20240208T190000
DTEND;TZID=Europe/London:20240208T210000
DTSTAMP:20260423T203310
CREATED:20240128T161137Z
LAST-MODIFIED:20240128T203349Z
UID:10000048-1707418800-1707426000@myphotoclub.co.uk
SUMMARY:Cherry Larcombe - ‘Art Photography’
DESCRIPTION:(As well as access to the live event\, you will receive a link to the recording\, which will be valid for 14 days) \nIn this inspiring talk\, discover how adopting some of Cherry’s ideas could help you produce unique and inventive abstract Photographic Art. \nCherry has a deep passion for digital photography and although she’s been making images with her camera for many years\, she has never lost her enthusiasm. \nShe loves being in control of the whole process; from composing the image\, to taking the shot\, post processing and printing the final photograph\, to see it in all its’ glory! \nIn this live Zoom session\, you’ll tap into Cherry’s creative mind and learn how to: \n\nCompose your photography in-camera\, focussing on simplicity and negative space\nCreate wonderful Art Photography in Photoshop\, using inversion\, toning\, creative cropping and the Graphite App\nGain confidence to experiment with your photography in a more creative way.\n\nCherry is a renowned Speaker and Competition Judge for many UK based Photography Clubs and an active member of Eastbourne Photographic Society. \nShe has exhibited her work both nationally and internationally\, and also runs Creative Flower Workshops for Permajet and Thames Valley RPS.
URL:https://myphotoclub.co.uk/event/cherry-larcombe-art-photography/
LOCATION:Online
CATEGORIES:Talk
ATTACH;FMTTYPE=image/jpeg:https://myphotoclub.co.uk/wp-content/uploads/2024/01/Cherry-Duo-8-2-24-scaled-jpg.webp
END:VEVENT
BEGIN:VEVENT
DTSTART;TZID=Europe/London:20240215T190000
DTEND;TZID=Europe/London:20240215T210000
DTSTAMP:20260423T203310
CREATED:20240204T080646Z
LAST-MODIFIED:20240204T080933Z
UID:10000049-1708023600-1708030800@myphotoclub.co.uk
SUMMARY:Shona Perkins - ‘The Art Of Observation – My Approach To ICM’
DESCRIPTION:(As well as access to the live event\, you will receive a link to the recording\, which will be valid for 14 days) \nScottish ICM Seascape Photographer\, Shona\, shares how careful observation\, slowing down and capturing the essence of place\, has elevated her work. \nInfluenced by contemporary art and abstract minimalism\, Shona has spent several years developing her love for ICM (Intentional Camera Movement) photography. \nIn this fascinating live Zoom Talk\, she will share her passion for this genre and explain how her approach has changed considerably over the past couple of years. \nWhile Shona enjoys the freedom and creativity that ICM allows\, she believes that technique is also extremely important. You will learn how a considered\, focussed\, and disciplined approach will ensure the best results can be achieved in-camera. \nYou will discover how she creates a sense of calm through her imagery\, capturing solitude\, tranquillity\, and haunting beauty\, all while maintaining her distinctive style. \nWhile largely self-taught\, Shona studied at the British Academy of Photography and is a regular contributor for the globally recognised ICM Photography Magazine. \nShe’s an inspirational Speaker with a wealth of experience in coaching\, mentoring and leadership and has been successfully running photography workshops\, creative retreats and private tuition for the past 3 years.
URL:https://myphotoclub.co.uk/event/shona-perkins-the-art-of-observation-my-approach-to-icm/
LOCATION:Online
CATEGORIES:Talk
ATTACH;FMTTYPE=image/jpeg:https://myphotoclub.co.uk/wp-content/uploads/2024/02/Shona-duo-scaled-jpg.webp
END:VEVENT
BEGIN:VEVENT
DTSTART;TZID=Europe/London:20240222T190000
DTEND;TZID=Europe/London:20240222T190000
DTSTAMP:20260423T203310
CREATED:20240204T084925Z
LAST-MODIFIED:20240213T132716Z
UID:10000050-1708628400-1708628400@myphotoclub.co.uk
SUMMARY:Joe Houghton - ‘Photography In An AI World’
DESCRIPTION:(As well as access to the live event\, you will receive a link to the recording\, which will be valid for 14 days) \nIn this fascinating Talk\, you’ll learn how rapid advances in Artificial Intelligence are impacting photography and the processing of images. \nIn February last year\, Joe Houghton guided us on a thought-provoking journey into AI and its influence on photography. \nNow\, one year on\, he’ll deliver an update on the current challenges and exciting opportunities presented by the fast-moving world of AI. \nYou’ll discover the impact of AI apps such as Topaz\, On1\, Luminar and DXO as well old favourites like Adobe Lightroom and Photoshop\, who have introduced AI features into their software. \nOnce again\, Joe will give us a lot to think about and hopefully spark some discussion on what is happening around us\, whether we like it or not! \nJoe Houghton is an avid Photographer and Trainer based in Dublin\, Ireland who has a passion for helping others. In the last 4 years he’s delivered over 500 Zoom presentations to Camera Clubs and other organisations worldwide. \nIn the UK he’s a trusted Leader of Talks and Workshops for the Royal Photographic Society and many of their Special Interest Groups. He’s also a Getty Images contributor and an Adobe Certified Expert in Lightroom.
URL:https://myphotoclub.co.uk/event/joe-houghton-photography-in-an-ai-world/
LOCATION:Online
CATEGORIES:Talk
ATTACH;FMTTYPE=image/jpeg:https://myphotoclub.co.uk/wp-content/uploads/2024/02/Joe-duo-AI-scaled-jpg.webp
END:VEVENT
BEGIN:VEVENT
DTSTART;TZID=Europe/London:20240229T190000
DTEND;TZID=Europe/London:20240229T210000
DTSTAMP:20260423T203310
CREATED:20240208T155248Z
LAST-MODIFIED:20240211T073326Z
UID:10000051-1709233200-1709240400@myphotoclub.co.uk
SUMMARY:Jet Lendon - ‘How To Shoot And Edit On Your Phone Like A Pro’
DESCRIPTION:(As well as access to the live event\, you will receive a link to the recording\, which will be valid for 14 days) \nJoin Jet Lendon for an engaging and insightful talk that will revolutionise the way you capture and edit photos using your smartphone. \nIn this dynamic\, online session\, you’ll learn how to use your smartphone to achieve results comparable to a DSLR camera! \nWhether an iPhone or Android user\, Jet will demonstrate the optimum camera settings and share invaluable advice on taking more creative shots. \nWith an emphasis on efficiency and creativity\, she’ll show live edits using Snapseed\, her ‘go to’ editing app. You’re encouraged to have your phone and some photos ready to edit during the session. \nJet strongly believes that when it comes to post processing\, ‘if you can’t edit in a minute\, bin it’. She will of course though\, delve deep into Snapseed to showcase what it can do. \nJet was a professional photographer in the corporate\, commercial and beauty sectors for 14 years. She’s now the Creative Director of Jet Black Squares who are on a mission to make photography accessible to everyone – not just those who can afford\, or want\, a ‘big’ camera. \n 
URL:https://myphotoclub.co.uk/event/jet-lendon-how-to-shoot-and-edit-on-your-phone-like-a-pro/
LOCATION:Online
CATEGORIES:Talk
ATTACH;FMTTYPE=image/jpeg:https://myphotoclub.co.uk/wp-content/uploads/2024/02/jet-duo-2-scaled-jpg.webp
END:VEVENT
END:VCALENDAR