BEGIN:VCALENDAR
VERSION:2.0
PRODID:-//MyPhotoClub - ECPv6.15.18//NONSGML v1.0//EN
CALSCALE:GREGORIAN
METHOD:PUBLISH
X-WR-CALNAME:MyPhotoClub
X-ORIGINAL-URL:https://myphotoclub.co.uk
X-WR-CALDESC:Events for MyPhotoClub
REFRESH-INTERVAL;VALUE=DURATION:PT1H
X-Robots-Tag:noindex
X-PUBLISHED-TTL:PT1H
BEGIN:VTIMEZONE
TZID:Europe/London
BEGIN:DAYLIGHT
TZOFFSETFROM:+0000
TZOFFSETTO:+0100
TZNAME:BST
DTSTART:20230326T010000
END:DAYLIGHT
BEGIN:STANDARD
TZOFFSETFROM:+0100
TZOFFSETTO:+0000
TZNAME:GMT
DTSTART:20231029T010000
END:STANDARD
BEGIN:DAYLIGHT
TZOFFSETFROM:+0000
TZOFFSETTO:+0100
TZNAME:BST
DTSTART:20240331T010000
END:DAYLIGHT
BEGIN:STANDARD
TZOFFSETFROM:+0100
TZOFFSETTO:+0000
TZNAME:GMT
DTSTART:20241027T010000
END:STANDARD
BEGIN:DAYLIGHT
TZOFFSETFROM:+0000
TZOFFSETTO:+0100
TZNAME:BST
DTSTART:20250330T010000
END:DAYLIGHT
BEGIN:STANDARD
TZOFFSETFROM:+0100
TZOFFSETTO:+0000
TZNAME:GMT
DTSTART:20251026T010000
END:STANDARD
END:VTIMEZONE
BEGIN:VEVENT
DTSTART;TZID=Europe/London:20240404T190000
DTEND;TZID=Europe/London:20240404T210000
DTSTAMP:20260424T075307
CREATED:20240306T142135Z
LAST-MODIFIED:20240307T065759Z
UID:10000058-1712257200-1712264400@myphotoclub.co.uk
SUMMARY:Paul Mitchell -  ‘Beyond the Visible’
DESCRIPTION:(As well as access to the live event\, you will receive a link to the recording\, which will be valid for 14 days)\n\n\n\nPaul shares his fascination for infrared photography\, covering the various ways to capture in IR and many of the practicalities involved.\n\n\n\nPaul’s wonderful and beautiful woodland photography is legendary.\n\n\nWe’ll learn from Paul’s experience and expertise when this is coupled with his fascination for infrared photography.\n\n\nWe’ll enjoy many fabulous IR images made throughout the UK over the past decade.\n\n\nPaul studied Graphic Design at Art College\, leading to a career spanning some 45 years\, running his own design business for the past 35 years.\n\n\nOver the last decade his photography has gained momentum and he now devotes most of his time lecturing and running photography workshops.\n\n\nPaul has had numerous exhibitions in the UK and has had articles and images published in many photography magazines.\n\n\nHe is a Fellow of the Royal Photographic Society\, is the currently the Chair of the Landscape distinctions panel and also sits on the Visual Art and Photobook panels.
URL:https://myphotoclub.co.uk/event/paul-mitchell-beyond-the-visible/
LOCATION:Online
CATEGORIES:Talk
ATTACH;FMTTYPE=image/jpeg:https://myphotoclub.co.uk/wp-content/uploads/2024/03/Paul-duo-scaled-jpg.webp
END:VEVENT
BEGIN:VEVENT
DTSTART;TZID=Europe/London:20240411T190000
DTEND;TZID=Europe/London:20240411T210000
DTSTAMP:20260424T075307
CREATED:20240306T085931Z
LAST-MODIFIED:20240410T151331Z
UID:10000057-1712862000-1712869200@myphotoclub.co.uk
SUMMARY:Mats Andersson - 'Creative & Lost in Iceland'
DESCRIPTION:(As well as access to the live event\, you will receive a link to the recording\, which will be valid for 14 days) \nThe Swedish legend has turned his love of wildlife and landscapes into a hugely successful career\, with artistic flair and a love of mono. \nIn the first half of this session\, you’ll gain insights into Mats highly creative images\, including his sources of inspiration and ICM. \n\nIn the second half\, he’ll share his personal photos and stories from his seven trips around the ‘fairy island’ of Iceland. You’ll see he’s captured some of the most famous places – but still manages to create incredibly beautiful\, unique images. \n\nMats work is widely respected and admired. A recent quote from Black + White Photography magazine describes it best:\n‘At first glance\, it’s hard to distinguish whether a Mats Andersson print is a painting or photograph. He blends the abstract with the surreal\, resulting in landscape imagery that can simultaneously evoke feelings of unease\, tranquillity\, forbidding and calm. His style is instantly recognisable\, a dark\, gritty\, analogue look with deep blacks\, a rich grain structure and often plenty of motion\, which contributes to his painterly style.’   \n\n\nMats studied photography at the Industrial Art School in Gothenburg\, followed by a job as Art Director and Photographer in the advertising industry.\n\nSince 1989 he has worked as an AD and Photographer at Concret Advertising in Sweden. Mats is a Leica ambassador in Scandinavia and has published 13 books.
URL:https://myphotoclub.co.uk/event/mats-andersson-creative-lost-in-iceland/
LOCATION:Online
CATEGORIES:Talk
ATTACH;FMTTYPE=image/jpeg:https://myphotoclub.co.uk/wp-content/uploads/2024/03/Mats-duo-scaled-jpg.webp
END:VEVENT
BEGIN:VEVENT
DTSTART;TZID=Europe/London:20240418T190000
DTEND;TZID=Europe/London:20240418T210000
DTSTAMP:20260424T075307
CREATED:20240409T143048Z
LAST-MODIFIED:20240409T144437Z
UID:10000062-1713466800-1713474000@myphotoclub.co.uk
SUMMARY:Chris Upton - ‘Simply Black & White’
DESCRIPTION:(As well as access to the live event\, you will receive a link to the recording\, which will be valid for 14 days) \nLearn how the simple beauty of monochrome strips away confusion to let us appreciate the wonder of light\, tone\, texture and detail in images. \n“Whilst the majority of my work is in colour\, like many\, my photographic journey started with black and white. \nI’ll never forget the magic of seeing those prints appear in the developing tray. \nIn these digital days I am increasingly drawn towards the simple beauty of monochrome which strips away the confusion of colour and asks us to appreciate the light\, tone\, texture and detail in our images. \nThis talk showcases some of my favourite B&W photographs and I’ll talk about my 7 tips for successful B&W images” \nChris Upton is a professional photographer\, based in Nottinghamshire (UK)\, specialising in Travel\, Landscape and Social Documentary photography.\nHe is an Associate of the Royal Photographic Society and was proud to have been a brand ambassador for Fujifilm for eight years. \nHe has exhibited many times both in a solo capacity and also as part of the Masters of Vision collective.
URL:https://myphotoclub.co.uk/event/chris-upton-simply-black-white/
LOCATION:Online
CATEGORIES:Talk
ATTACH;FMTTYPE=image/jpeg:https://myphotoclub.co.uk/wp-content/uploads/2024/04/Chris-duo-colour-scaled-jpg.webp
END:VEVENT
BEGIN:VEVENT
DTSTART;TZID=Europe/London:20240425T190000
DTEND;TZID=Europe/London:20240425T210000
DTSTAMP:20260424T075307
CREATED:20240410T150714Z
LAST-MODIFIED:20240410T150714Z
UID:10000063-1714071600-1714078800@myphotoclub.co.uk
SUMMARY:Robert Canis - 'Passion Projects: In Nature And The Landscape'
DESCRIPTION:(As well as access to the live event\, you will receive a link to the recording\, which will be valid for 14 days) \nDiscover how projects can be a powerful and rewarding means of focussing on a specific task or subject\, whatever your favourite genre. \nFrom a walk on the beach\, to a year in a local woodland\, projects – whether long or short – are a great means of focusing one’s attention on a specific species\, habitat or technique. \nRobert shares how the focus of personal projects can prevent us wandering and returning with nothing in particular. \nEnjoy his stunning Nature and Landscape work and learn more about his techniques and experiences. \nRobert Canis is based in north Kent\, and has been photographing nature for more than 40 years\, with 30 as a professional. \nFrequently leading workshops and overseas tours\, the vast majority of Robert’s photography is project-related and undertaken close to home. \nRepresented by a number of Europe’s leading image libraries\, he has received multiple awards in numerous prestigious international photo competitions and is the recipient of the RPS Gold Medal.
URL:https://myphotoclub.co.uk/event/robert-canis-passion-projects-in-nature-and-the-landscape/
LOCATION:Online
CATEGORIES:Talk
ATTACH;FMTTYPE=image/jpeg:https://myphotoclub.co.uk/wp-content/uploads/2024/04/Robert-duo-flower-scaled-jpg.webp
END:VEVENT
END:VCALENDAR