BEGIN:VCALENDAR
VERSION:2.0
PRODID:-//MyPhotoClub - ECPv6.15.18//NONSGML v1.0//EN
CALSCALE:GREGORIAN
METHOD:PUBLISH
X-ORIGINAL-URL:https://myphotoclub.co.uk
X-WR-CALDESC:Events for MyPhotoClub
REFRESH-INTERVAL;VALUE=DURATION:PT1H
X-Robots-Tag:noindex
X-PUBLISHED-TTL:PT1H
BEGIN:VTIMEZONE
TZID:Europe/London
BEGIN:DAYLIGHT
TZOFFSETFROM:+0000
TZOFFSETTO:+0100
TZNAME:BST
DTSTART:20230326T010000
END:DAYLIGHT
BEGIN:STANDARD
TZOFFSETFROM:+0100
TZOFFSETTO:+0000
TZNAME:GMT
DTSTART:20231029T010000
END:STANDARD
BEGIN:DAYLIGHT
TZOFFSETFROM:+0000
TZOFFSETTO:+0100
TZNAME:BST
DTSTART:20240331T010000
END:DAYLIGHT
BEGIN:STANDARD
TZOFFSETFROM:+0100
TZOFFSETTO:+0000
TZNAME:GMT
DTSTART:20241027T010000
END:STANDARD
BEGIN:DAYLIGHT
TZOFFSETFROM:+0000
TZOFFSETTO:+0100
TZNAME:BST
DTSTART:20250330T010000
END:DAYLIGHT
BEGIN:STANDARD
TZOFFSETFROM:+0100
TZOFFSETTO:+0000
TZNAME:GMT
DTSTART:20251026T010000
END:STANDARD
END:VTIMEZONE
BEGIN:VEVENT
DTSTART;TZID=Europe/London:20240502T190000
DTEND;TZID=Europe/London:20240502T210000
DTSTAMP:20260422T015354
CREATED:20240422T073601Z
LAST-MODIFIED:20240426T095000Z
UID:10000064-1714676400-1714683600@myphotoclub.co.uk
SUMMARY:Judy Hancock Holland - ‘Getting To WOW: 7 Strategies For Photographers’
DESCRIPTION:(As well as access to the live event\, you will receive a link to the recording\, which will be valid for 14 days) \nWhatever your expertise or genre\, learn 7 things to take your work from ordinary to WOW! with Judy\, award-winning Photographer and Educator. \nYou’ve been making photos for a while now and you’ve got the basics down pat. Your photography is pretty solid\, but it doesn’t really stand out. \nHow do you move from good to WOW? \nHow do you take the next step to create images with impact and emotion? \nFind out by joining our live Zoom Talk with Judy Hancock Holland. You’ll learn 7 things you can do to elevate your photography – to achieve that elusive WOW factor! \nWhether you’re a beginner or seasoned pro\, these steps should help you make images that are uniquely yours and stand out from the crowd. \nJudy Hancock Holland’s photographic work has been published and exhibited in Canada\, the US\, and Europe. She’s an award-winning photographer and lifelong educator who loves to coach and mentor others. While she is best known for her minimalist work\, she enjoys a variety of other genres including macro\, abstract\, and floral photography.
URL:https://myphotoclub.co.uk/event/judy-hancock-holland-getting-to-wow-7-strategies-for-photographers/
LOCATION:Online
CATEGORIES:Talk
ATTACH;FMTTYPE=image/jpeg:https://myphotoclub.co.uk/wp-content/uploads/2024/04/Judy-duo-flower-scaled-jpg.webp
END:VEVENT
BEGIN:VEVENT
DTSTART;TZID=Europe/London:20240509T190000
DTEND;TZID=Europe/London:20240509T210000
DTSTAMP:20260422T015354
CREATED:20240425T082325Z
LAST-MODIFIED:20240425T082325Z
UID:10000065-1715281200-1715288400@myphotoclub.co.uk
SUMMARY:Viveca Koh – ‘A Collection Of Moments’
DESCRIPTION:(As well as access to the live event\, you will receive a link to the recording\, which will be valid for 14 days) \n\nA fascinating\, whistle-stop tour around the creative\, original\, and magical world of self-taught Fine Art Photographer\, Viveca Koh! \n\nIn this Talk she’ll present a collection of her ‘mini projects’ to give you a taste of her eclectic interests and unique photographic voice. \n\nYou’ll hear about her Elgies (Taphophile Tales) photographed in cemeteries and her love for stone angels and monumental masonry. \n\nThere will be dolls and mannequins\, which she finds sinister but intriguing with their moulded faces and strange sense of humanity. \n\nAbandoned buildings are also her passion\, as are the minutiae that collects in hidden corners\, and the small parts of bigger things that are fascinating in their own right. \n\nLearn how she enhances this work with texture overlays\, double exposures\, often incorporating old found documents to add a different dimension. \n\nYou’ll also discover her square format seascapes from the Isle of Man and images inspired by the flower photography of Robert Mapplethorpe. Finally\, she’ll share some smartphone photography\, a passion which began in 2012. \n\nViveca Koh is a Fellow of The Royal Photographic Society (2014) and The Irish Photographic \nFederation (2021). She’s an LRPS Panel Member and Visual Art Panel Member\, assessing all 3 levels of RPS distinctions.
URL:https://myphotoclub.co.uk/event/viveca-koh-a-collection-of-moments/
LOCATION:Online
CATEGORIES:Talk
ATTACH;FMTTYPE=image/jpeg:https://myphotoclub.co.uk/wp-content/uploads/2024/04/Viveca-duo-scaled-jpg.webp
END:VEVENT
BEGIN:VEVENT
DTSTART;TZID=Europe/London:20240516T190000
DTEND;TZID=Europe/London:20240516T210000
DTSTAMP:20260422T015354
CREATED:20240501T115345Z
LAST-MODIFIED:20240502T071242Z
UID:10000066-1715886000-1715893200@myphotoclub.co.uk
SUMMARY:Ruth Grindrod – ‘My Vision\, My Practice’
DESCRIPTION:(As well as access to the live event\, you will receive a link to the recording\, which will be valid for 14 days) \nIn this inspiring Talk\, award-winning Landscape Photographer Ruth\, invites us into her world of visual exploration and artistic expression. \nWith a focus on her personal ‘vision’\, Ruth delves into what excites and inspires her within the realm of landscape photography\, sharing insights into her practice both in the field and during post-processing. \nShe will demonstrate the diversity of landscapes that continually captivate her lens by showcasing her latest work\, classified into the three categories of ‘Land’\, ‘Water’ and ‘Close to Home’.  \nRuth will show how her images are created both in the landscape and when back at home\, including some technical aspects of actually taking and making a photo. \nThroughout the Talk she’ll aim to give everyone the confidence\, whatever their experience\, to venture into the landscape with their camera – to discover the magic that happens when they embrace their own unique perspectives. \nRuth Grindrod has won many accolades\, including ‘Scottish Nature Photographer of the Year’ in 2019\, and featuring in LPOTY winners’ books. She regularly writes for Frames and Outdoor Photography magazines.She lives in Norfolk but regularly travels to Scotland as she never tires of the Scottish landscape.
URL:https://myphotoclub.co.uk/event/ruth-grindrod-my-vision-my-practice/
LOCATION:Online
CATEGORIES:Talk
ATTACH;FMTTYPE=image/jpeg:https://myphotoclub.co.uk/wp-content/uploads/2024/05/Ruth-duo-scaled-jpg.webp
END:VEVENT
BEGIN:VEVENT
DTSTART;TZID=Europe/London:20240523T190000
DTEND;TZID=Europe/London:20240523T210000
DTSTAMP:20260422T015354
CREATED:20240501T123414Z
LAST-MODIFIED:20240501T123414Z
UID:10000067-1716490800-1716498000@myphotoclub.co.uk
SUMMARY:Kaisa Siren – ‘Shaking And Moving Across The Arctic And Antarctic’
DESCRIPTION:(As well as access to the live event\, you will receive a link to the recording\, which will be valid for 14 days) \n\nEmbark on an icy adventure with Kaisa\, renowned ICM Photographer\, to see the stunning Antarctic and Arctic Circle through her creative lens. \n\nIn this exciting presentation\, Kaisa will be showing work from her home area of the Arctic Circle in Lapland\, Svalbard\, Greenland\, and 3 different locations in the Antarctic. \n\nThe photographic themes she touches on are related to different seasons of Lapland\, the sensitivity of the northern nature and expressing emotions via impressionistic nature photos. \n\nShe is currently working on a personal project called ‘Iceberg Graveyard’ and will share with you how she’s used Intentional Camera Movement (ICM) to express her feelings about the sensitive polar regions and the global warming. \n\nKaisa lives in Rovaniemi\, at the Arctic Circle in Lapland\, Finland where she works as a freelance photographer. She has had several solo and group exhibitions\, in Finland\, Sweden\, Denmark and Germany. She also owns and runs her own gallery in Rovaniemi. \n\nKaisa is member of the quarterly ICMPhotomag E-mag publishing team\, a co-founder of ICMPhotomag Network Community and ICM Photo Academy. She teaches courses on ICM photography\, both in person and on-line.
URL:https://myphotoclub.co.uk/event/kaisa-siren-shaking-and-moving-across-the-arctic-and-antarctic/
LOCATION:Online
CATEGORIES:Talk
ATTACH;FMTTYPE=image/jpeg:https://myphotoclub.co.uk/wp-content/uploads/2024/05/Kaisa-duo-23-5-2024-scaled-jpg.webp
END:VEVENT
BEGIN:VEVENT
DTSTART;TZID=Europe/London:20240530T190000
DTEND;TZID=Europe/London:20240530T210000
DTSTAMP:20260422T015354
CREATED:20240522T135536Z
LAST-MODIFIED:20240522T135536Z
UID:10000071-1717095600-1717102800@myphotoclub.co.uk
SUMMARY:Mark Littlejohn – ‘The World Isn’t Black And White – It’s Grey’
DESCRIPTION:(As well as access to the live event\, you will automatically receive a link to the recording\, which will be valid for 14 days) \n\nJoin Mark as he delves into the world of black and white imagery\, sharing insights on capturing mood and atmosphere in everyday landscapes. \n\nMark has always been a huge fan of black and white; ‘The work of Don McCullin springs to mind. Darkly atmospheric. And black and white is so capable when it comes to adding that little bit of mood\, that atmosphere.’ \nIt’s no coincidence that his favourite movie genre is Noir; ‘Brooding scenes from the mind of Raymond Chandler\, brought to life on the big screen.’  \nHe’s heard others say that often\, if a picture doesn’t work\, they’ll convert it to black and white. He doesn’t agree with this thinking. He’ll share how with some compositions; his mind just automatically converts them to black and white. \nMark’s work often features in national magazines\, he’s also written several articles about landscape photography and his unique approach to it. \nHe’s a previous winner of Take-a-View UK Landscape Photographer of the Year and more recently\, 11 of his images received Judges Commendations\, two Highly Commended and another runner up in the Classic View.
URL:https://myphotoclub.co.uk/event/mark-littlejohn-the-world-isnt-black-and-white-its-grey/
LOCATION:Online
CATEGORIES:Talk
ATTACH;FMTTYPE=image/jpeg:https://myphotoclub.co.uk/wp-content/uploads/2024/05/Mark-mono-duo-scaled-jpg.webp
END:VEVENT
END:VCALENDAR