BEGIN:VCALENDAR
VERSION:2.0
PRODID:-//MyPhotoClub - ECPv6.15.18//NONSGML v1.0//EN
CALSCALE:GREGORIAN
METHOD:PUBLISH
X-WR-CALNAME:MyPhotoClub
X-ORIGINAL-URL:https://myphotoclub.co.uk
X-WR-CALDESC:Events for MyPhotoClub
REFRESH-INTERVAL;VALUE=DURATION:PT1H
X-Robots-Tag:noindex
X-PUBLISHED-TTL:PT1H
BEGIN:VTIMEZONE
TZID:Europe/London
BEGIN:DAYLIGHT
TZOFFSETFROM:+0000
TZOFFSETTO:+0100
TZNAME:BST
DTSTART:20230326T010000
END:DAYLIGHT
BEGIN:STANDARD
TZOFFSETFROM:+0100
TZOFFSETTO:+0000
TZNAME:GMT
DTSTART:20231029T010000
END:STANDARD
BEGIN:DAYLIGHT
TZOFFSETFROM:+0000
TZOFFSETTO:+0100
TZNAME:BST
DTSTART:20240331T010000
END:DAYLIGHT
BEGIN:STANDARD
TZOFFSETFROM:+0100
TZOFFSETTO:+0000
TZNAME:GMT
DTSTART:20241027T010000
END:STANDARD
BEGIN:DAYLIGHT
TZOFFSETFROM:+0000
TZOFFSETTO:+0100
TZNAME:BST
DTSTART:20250330T010000
END:DAYLIGHT
BEGIN:STANDARD
TZOFFSETFROM:+0100
TZOFFSETTO:+0000
TZNAME:GMT
DTSTART:20251026T010000
END:STANDARD
END:VTIMEZONE
BEGIN:VEVENT
DTSTART;TZID=Europe/London:20241107T190000
DTEND;TZID=Europe/London:20241107T210000
DTSTAMP:20260420T005555
CREATED:20241104T160652Z
LAST-MODIFIED:20241104T180527Z
UID:10000116-1731006000-1731013200@myphotoclub.co.uk
SUMMARY:Cherry Larcombe - ‘Simply Still Life’
DESCRIPTION:(As well as access to the live event\, you will receive a link to the recording\, which will be valid for 14 days) \nIn her exciting\, brand-new Talk\, Cherry will share innovative ideas to help you produce unique and inventive photographic Still Life images. \nThose who have been lucky enough to see Cherry before\, will know she has a deep passion for digital photography which she loves to share in an inspiring and accessible way. \nShe enjoys being in control of the whole process; from composing the image\, to taking the shot\, post processing and printing the final photograph\, to see it in all its’ glory! \nIn this live Zoom session\, you’ll learn how to create simple and minimalistic Still Life images using charity shop vases\, bottles\, flowers and plants (both dead and fresh) using natural light. \nYou’ll see how to create these kinds of images in camera and then enhance them in Photoshop. You’ll find out how to add texture and backgrounds and use brushes to create shapes. \nCherry is a renowned Speaker and Competition Judge for many UK based Photography Clubs. \nShe has exhibited her work both nationally and internationally and runs Creative Flower Workshops for Permajet and Thames Valley RPS.
URL:https://myphotoclub.co.uk/event/cherry-larcombe-simply-still-life/
LOCATION:Online
CATEGORIES:Talk
ATTACH;FMTTYPE=image/jpeg:https://myphotoclub.co.uk/wp-content/uploads/2024/11/Cherry-Duo-Pic-Nov24.jpg
END:VEVENT
BEGIN:VEVENT
DTSTART;TZID=Europe/London:20241114T190000
DTEND;TZID=Europe/London:20241114T210000
DTSTAMP:20260420T005555
CREATED:20241107T140933Z
LAST-MODIFIED:20241107T141006Z
UID:10000117-1731610800-1731618000@myphotoclub.co.uk
SUMMARY:Charlie Waite - ‘Behind the Photograph'
DESCRIPTION:(As well as access to the live event\, you will receive a link to the recording\, which will be valid for 14 days) \nJoin world-renowned landscape photographer Charlie Waite in his captivating talk about the art of capturing the beauty of the natural world. \nCharlie will demonstrate how photography can be a profound way to engage with and appreciate the landscape. \nHis photographs\, known for their painterly quality and spiritual depth\, reflect his deep connection with the natural world. You will learn how to truly connect with the landscape and capture its essence. \nThrough stunning imagery\, you will discover the artistry and the role of light in creating evocative images and inspire you to elevate your own photography. \nHe will talk about storytelling potential of photography\, to understand how to use it to convey emotions and narratives. \nYou will gain insight into the technical aspects of landscape photography: camera settings\, composition\, and post-processing techniques. \nCharlie is firmly established as one of the world’s leading landscape photographers. With over 40 years of experience\, he’s passionate about sharing his knowledge and love for landscape photography. \nHis journey influenced by his background in theatre lighting design\, has led him to explore diverse landscapes across the globe. He has travelled to over 40 countries capturing the unique beauty and essence of the diverse locations worldwide.
URL:https://myphotoclub.co.uk/event/charlie-waite-behind-the-photograph/
LOCATION:Online
CATEGORIES:Talk
ATTACH;FMTTYPE=image/jpeg:https://myphotoclub.co.uk/wp-content/uploads/2024/11/Duo-Pics-for-MPC_MASTER-4.jpg
END:VEVENT
BEGIN:VEVENT
DTSTART;TZID=Europe/London:20241121T190000
DTEND;TZID=Europe/London:20241121T210000
DTSTAMP:20260420T005555
CREATED:20241116T153724Z
LAST-MODIFIED:20241116T153724Z
UID:10000119-1732215600-1732222800@myphotoclub.co.uk
SUMMARY:Joe Houghton - ‘Master Lightroom’
DESCRIPTION:(As well as access to the live event\, you will receive a link to the recording\, which will be valid for 14 days) \nIn this talk\, Joe will unleash the power of masking and dive deep into the advanced capabilities of the ever-improving Lightroom Classic. \nWith the new masking tools\, you can effortlessly create selections based on shape\, colour\, and brightness. This opens a world of possibilities for transforming your flat RAW files into stunning\, competition-worthy masterpieces. \nHave you got a masking query? Or need help with another aspect of Lightroom? Joe encourages audience participation\, so your burning questions along! \nThis session is a perfect taster to see if our popular 10-week workshop ‘Lightroom Mastery with Joe Houghton’ is right for you. The next series of this course starts on Tuesday 7thJanuary. A great way to kick off the new year! \nJoe Houghton is a Dublin-based photography trainer with over 750 online talks under his belt. He’s a certified Adobe Lightroom Expert\, author of 3 photography books\, and a regular speaker with MyPhotoClub. \nJoe is passionate about sharing his knowledge\, in an engaging and easy-to-understand manner whether you’re a complete beginner or a seasoned pro.
URL:https://myphotoclub.co.uk/event/joe-houghton-master-lightroom/
LOCATION:Online
CATEGORIES:Talk
ATTACH;FMTTYPE=image/jpeg:https://myphotoclub.co.uk/wp-content/uploads/2024/11/Duo-Pics-for-MPC_MASTER_Joe-H.jpg
END:VEVENT
BEGIN:VEVENT
DTSTART;TZID=Europe/London:20241121T223000
DTEND;TZID=Europe/London:20241121T233000
DTSTAMP:20260420T005555
CREATED:20240107T004624Z
LAST-MODIFIED:20241122T060905Z
UID:10000046-1732228200-1732231800@myphotoclub.co.uk
SUMMARY:MyPhotoClub Talk Bundles 2024
DESCRIPTION:Pre-purchase a Bundle of 10 MPC Thursday Talks as a gift – or as a treat for yourself! \nWe source the best photography Speakers from around the world for these weekly live Zoom Talks. \nDo you want to save time and skip the booking process each week – just purchase a Bundle and then simply email us to receive the direct Zoom link to your chosen Talk(s) \nSave the ‘pain’ of entering your details twice each week and still be able to choose which Talks you want! \n(After the event you’ll also receive a link to the recording of the Talk\, which will be valid for 14 days)
URL:https://myphotoclub.co.uk/event/myphotoclub-talk-bundles-x-10/
LOCATION:Online
CATEGORIES:Talk
ATTACH;FMTTYPE=image/png:https://myphotoclub.co.uk/wp-content/uploads/2024/01/3-MPC-logo-square.png
END:VEVENT
BEGIN:VEVENT
DTSTART;TZID=Europe/London:20241128T190000
DTEND;TZID=Europe/London:20241128T210000
DTSTAMP:20260420T005555
CREATED:20241121T052032Z
LAST-MODIFIED:20241124T163456Z
UID:10000121-1732820400-1732827600@myphotoclub.co.uk
SUMMARY:Tim Parkin - ‘Competitions In The Art World’
DESCRIPTION:(As well as access to the live event\, you will receive a link to the recording\, which will be valid for 14 days) \nTim will introduce us to the historical significance of competitions in the art world\, focusing on contemporary photography competitions. \nFrom the Salons of France to the Royal Academy Summer Exhibition\, photographers and painters have always competed to find a place for their work. \nHe will discuss many aspects of modern photography competitions\, specifically the Natural Landscape Photographer of the Year competition and book. \nYou will understand the potential advantages and driving forces behind participating in photography competitions. \nTim is a landscape photographer and editor of the landscape photography magazine\, ‘On Landscape’. \nHe uses a mix of film and digital cameras but mostly film in small\, medium\, large sized format. \nPhotography was a childhood interest\, but he left it for computing. He later returned\, captivated by large-format cameras. Despite their cumbersome nature\, he found them empowering\, allowing for greater control and a more deliberate approach to image-making. \nHe believes photography is a tool for self-discovery and a means of deeper connection with the world. By slowing down and paying attention to the details\, you can capture the essence of a moment and relive it through the lens.
URL:https://myphotoclub.co.uk/event/tim-parkin-competitions-in-the-art-world/
LOCATION:Online
CATEGORIES:Talk
ATTACH;FMTTYPE=image/jpeg:https://myphotoclub.co.uk/wp-content/uploads/2024/11/Duo-Pic_Tim-Parkin_FINAL.jpg
END:VEVENT
END:VCALENDAR