BEGIN:VCALENDAR
VERSION:2.0
PRODID:-//MyPhotoClub - ECPv6.15.18//NONSGML v1.0//EN
CALSCALE:GREGORIAN
METHOD:PUBLISH
X-WR-CALNAME:MyPhotoClub
X-ORIGINAL-URL:https://myphotoclub.co.uk
X-WR-CALDESC:Events for MyPhotoClub
REFRESH-INTERVAL;VALUE=DURATION:PT1H
X-Robots-Tag:noindex
X-PUBLISHED-TTL:PT1H
BEGIN:VTIMEZONE
TZID:Europe/London
BEGIN:DAYLIGHT
TZOFFSETFROM:+0000
TZOFFSETTO:+0100
TZNAME:BST
DTSTART:20220327T010000
END:DAYLIGHT
BEGIN:STANDARD
TZOFFSETFROM:+0100
TZOFFSETTO:+0000
TZNAME:GMT
DTSTART:20221030T010000
END:STANDARD
BEGIN:DAYLIGHT
TZOFFSETFROM:+0000
TZOFFSETTO:+0100
TZNAME:BST
DTSTART:20230326T010000
END:DAYLIGHT
BEGIN:STANDARD
TZOFFSETFROM:+0100
TZOFFSETTO:+0000
TZNAME:GMT
DTSTART:20231029T010000
END:STANDARD
BEGIN:DAYLIGHT
TZOFFSETFROM:+0000
TZOFFSETTO:+0100
TZNAME:BST
DTSTART:20240331T010000
END:DAYLIGHT
BEGIN:STANDARD
TZOFFSETFROM:+0100
TZOFFSETTO:+0000
TZNAME:GMT
DTSTART:20241027T010000
END:STANDARD
END:VTIMEZONE
BEGIN:VEVENT
DTSTART;TZID=Europe/London:20231123T190000
DTEND;TZID=Europe/London:20231123T210000
DTSTAMP:20260425T115233
CREATED:20231111T122250Z
LAST-MODIFIED:20231111T122250Z
UID:10000032-1700766000-1700773200@myphotoclub.co.uk
SUMMARY:Chris Upton -  ’The Way I See It’
DESCRIPTION:(As well as access to the live event\, you will receive a link to the recording\, which will be valid for 14 days) \nGain invaluable insights into how award-winning travel\, landscape and social documentary photographer\, Chris creates his captivating images. \nDrawing on over three decades of experience\, including 10 years of teaching and leading tours\, Chris addresses the fundamental question he’s often asked: ‘How do you see a picture?’ \nMost people are thinking about composition when asking this question\, but Chris believes that creating a good photograph requires so much more than that. \nIn this talk\, he unveils a powerful 7-step plan brimming with indispensable hints and tips\, designed to help you achieve better images. It’s a roadmap to help you evaluate where you are on your photographic journey and where you want to go. \nBy the end of this enlightening talk\, you should feel inspired to continue developing your skills\, elevating your photography to the next level. \nChris Upton is an Associate of the RPS and is proud to have been a brand ambassador for Fujifilm for eight years. His images are represented by stock agencies and used by many clients around the world. As a natural communicator he’s a sought after Speaker and Tutor and runs international workshops and tours.
URL:https://myphotoclub.co.uk/event/chris-upton-the-way-i-see-it/
LOCATION:Online
CATEGORIES:Talk
ATTACH;FMTTYPE=image/jpeg:https://myphotoclub.co.uk/wp-content/uploads/2023/11/Chris-ad-scaled-jpg.webp
END:VEVENT
END:VCALENDAR