BEGIN:VCALENDAR
VERSION:2.0
PRODID:-//MyPhotoClub - ECPv6.15.18//NONSGML v1.0//EN
CALSCALE:GREGORIAN
METHOD:PUBLISH
X-ORIGINAL-URL:https://myphotoclub.co.uk
X-WR-CALDESC:Events for MyPhotoClub
REFRESH-INTERVAL;VALUE=DURATION:PT1H
X-Robots-Tag:noindex
X-PUBLISHED-TTL:PT1H
BEGIN:VTIMEZONE
TZID:Europe/London
BEGIN:DAYLIGHT
TZOFFSETFROM:+0000
TZOFFSETTO:+0100
TZNAME:BST
DTSTART:20230326T010000
END:DAYLIGHT
BEGIN:STANDARD
TZOFFSETFROM:+0100
TZOFFSETTO:+0000
TZNAME:GMT
DTSTART:20231029T010000
END:STANDARD
BEGIN:DAYLIGHT
TZOFFSETFROM:+0000
TZOFFSETTO:+0100
TZNAME:BST
DTSTART:20240331T010000
END:DAYLIGHT
BEGIN:STANDARD
TZOFFSETFROM:+0100
TZOFFSETTO:+0000
TZNAME:GMT
DTSTART:20241027T010000
END:STANDARD
BEGIN:DAYLIGHT
TZOFFSETFROM:+0000
TZOFFSETTO:+0100
TZNAME:BST
DTSTART:20250330T010000
END:DAYLIGHT
BEGIN:STANDARD
TZOFFSETFROM:+0100
TZOFFSETTO:+0000
TZNAME:GMT
DTSTART:20251026T010000
END:STANDARD
END:VTIMEZONE
BEGIN:VEVENT
DTSTART;TZID=Europe/London:20240321T190000
DTEND;TZID=Europe/London:20240321T210000
DTSTAMP:20260423T134122
CREATED:20240216T071516Z
LAST-MODIFIED:20240306T063905Z
UID:10000054-1711047600-1711054800@myphotoclub.co.uk
SUMMARY:Brendan Ó Sé - ‘How The Limits Of The Smartphone Made Me A Better Photographer'
DESCRIPTION:(As well as access to the live event\, you will receive a link to the recording\, which will be valid for 14 days) \nLearn to create remarkable images using the camera in your pocket – with award-winning Smartphone Photographer and Educator\, Brendan Ó Sé. \nBrendan will explore how the limitations of the smartphone put him on a path of heightened visual awareness – and accelerated his photographic development. \nHe’ll explain how not relying on his DSLR allowed him to see and create in unusual ways\, resulting in more unique imagery and striking street photography. \nHe will demonstrate\, through his images\, how photography is not about cameras\, but all about the craft of composition\, light and story. \nBy the end of this talk\, you’ll discover how having your smartphone with you at all times\, can shift you from passive observer to an active creative photographer. \nBrendan is from Cork\, Ireland and was part of the hugey successful #shotoniPhone global campaign in 2015. He exhibits his work all around the world and has won many international awards including ‘iPhone Photographer of the Year’ in 2017. \nHe runs photography workshops\, most regularly with the Photo Museum of Ireland and The Glucksman Gallery. He’s also co-founder of the Mobiography Awards.
URL:https://myphotoclub.co.uk/event/brendan-o-se-how-the-limits-of-the-smartphone-made-me-a-better-photographer/
LOCATION:Online
CATEGORIES:Talk
ATTACH;FMTTYPE=image/jpeg:https://myphotoclub.co.uk/wp-content/uploads/2024/02/Brendan-duo-scaled-jpg.webp
END:VEVENT
END:VCALENDAR