BEGIN:VCALENDAR
VERSION:2.0
PRODID:-//MyPhotoClub - ECPv6.15.18//NONSGML v1.0//EN
CALSCALE:GREGORIAN
METHOD:PUBLISH
X-ORIGINAL-URL:https://myphotoclub.co.uk
X-WR-CALDESC:Events for MyPhotoClub
REFRESH-INTERVAL;VALUE=DURATION:PT1H
X-Robots-Tag:noindex
X-PUBLISHED-TTL:PT1H
BEGIN:VTIMEZONE
TZID:Europe/London
BEGIN:DAYLIGHT
TZOFFSETFROM:+0000
TZOFFSETTO:+0100
TZNAME:BST
DTSTART:20230326T010000
END:DAYLIGHT
BEGIN:STANDARD
TZOFFSETFROM:+0100
TZOFFSETTO:+0000
TZNAME:GMT
DTSTART:20231029T010000
END:STANDARD
BEGIN:DAYLIGHT
TZOFFSETFROM:+0000
TZOFFSETTO:+0100
TZNAME:BST
DTSTART:20240331T010000
END:DAYLIGHT
BEGIN:STANDARD
TZOFFSETFROM:+0100
TZOFFSETTO:+0000
TZNAME:GMT
DTSTART:20241027T010000
END:STANDARD
BEGIN:DAYLIGHT
TZOFFSETFROM:+0000
TZOFFSETTO:+0100
TZNAME:BST
DTSTART:20250330T010000
END:DAYLIGHT
BEGIN:STANDARD
TZOFFSETFROM:+0100
TZOFFSETTO:+0000
TZNAME:GMT
DTSTART:20251026T010000
END:STANDARD
END:VTIMEZONE
BEGIN:VEVENT
DTSTART;TZID=Europe/London:20240328T190000
DTEND;TZID=Europe/London:20240328T210000
DTSTAMP:20260424T121549
CREATED:20240306T064816Z
LAST-MODIFIED:20240307T065922Z
UID:10000056-1711652400-1711659600@myphotoclub.co.uk
SUMMARY:Ted Leeming - 'Learning to See'
DESCRIPTION:(As well as access to the live event\, you will receive a link to the recording\, which will be valid for 14 days)\n\n\nTed shares his journey\, how he overcame ‘inspirational lethargy’\, discovered his true photographic voice\, and the huge opportunities since.\n\n\nMany of us experience periods of inspirational lethargy when innovative ideas are thin on the ground.\n\nTed became a professional photographer nearly 40 years ago\, with a short gap struggling with that issue.\n\nLearn how his aims and ambitions have altered with time and the single event which changed everything\, opened his eyes to discovering his true voice and with it an endless world of opportunity.\n\nHe shares how this has now led to his photography exploring the tensions\, harmonies and imbalances that exist between biodiversity\, climate\, community\, society & commercial interests.\n\nAs a landscape photographer\, he is drawn to the beauty of the natural world and the interactions and consequences of human activities therein\, focusing on place based\, immersive\, low impact projects with local themes.
URL:https://myphotoclub.co.uk/event/ted-leeming-learning-to-see/
LOCATION:Online
CATEGORIES:Talk
ATTACH;FMTTYPE=image/jpeg:https://myphotoclub.co.uk/wp-content/uploads/2024/03/Ted-duo-scaled-jpg.webp
END:VEVENT
END:VCALENDAR