BEGIN:VCALENDAR
VERSION:2.0
PRODID:-//MyPhotoClub - ECPv6.15.18//NONSGML v1.0//EN
CALSCALE:GREGORIAN
METHOD:PUBLISH
X-ORIGINAL-URL:https://myphotoclub.co.uk
X-WR-CALDESC:Events for MyPhotoClub
REFRESH-INTERVAL;VALUE=DURATION:PT1H
X-Robots-Tag:noindex
X-PUBLISHED-TTL:PT1H
BEGIN:VTIMEZONE
TZID:Europe/London
BEGIN:DAYLIGHT
TZOFFSETFROM:+0000
TZOFFSETTO:+0100
TZNAME:BST
DTSTART:20230326T010000
END:DAYLIGHT
BEGIN:STANDARD
TZOFFSETFROM:+0100
TZOFFSETTO:+0000
TZNAME:GMT
DTSTART:20231029T010000
END:STANDARD
BEGIN:DAYLIGHT
TZOFFSETFROM:+0000
TZOFFSETTO:+0100
TZNAME:BST
DTSTART:20240331T010000
END:DAYLIGHT
BEGIN:STANDARD
TZOFFSETFROM:+0100
TZOFFSETTO:+0000
TZNAME:GMT
DTSTART:20241027T010000
END:STANDARD
BEGIN:DAYLIGHT
TZOFFSETFROM:+0000
TZOFFSETTO:+0100
TZNAME:BST
DTSTART:20250330T010000
END:DAYLIGHT
BEGIN:STANDARD
TZOFFSETFROM:+0100
TZOFFSETTO:+0000
TZNAME:GMT
DTSTART:20251026T010000
END:STANDARD
END:VTIMEZONE
BEGIN:VEVENT
DTSTART;TZID=Europe/London:20240516T190000
DTEND;TZID=Europe/London:20240516T210000
DTSTAMP:20260422T032656
CREATED:20240501T115345Z
LAST-MODIFIED:20240502T071242Z
UID:10000066-1715886000-1715893200@myphotoclub.co.uk
SUMMARY:Ruth Grindrod – ‘My Vision\, My Practice’
DESCRIPTION:(As well as access to the live event\, you will receive a link to the recording\, which will be valid for 14 days) \nIn this inspiring Talk\, award-winning Landscape Photographer Ruth\, invites us into her world of visual exploration and artistic expression. \nWith a focus on her personal ‘vision’\, Ruth delves into what excites and inspires her within the realm of landscape photography\, sharing insights into her practice both in the field and during post-processing. \nShe will demonstrate the diversity of landscapes that continually captivate her lens by showcasing her latest work\, classified into the three categories of ‘Land’\, ‘Water’ and ‘Close to Home’.  \nRuth will show how her images are created both in the landscape and when back at home\, including some technical aspects of actually taking and making a photo. \nThroughout the Talk she’ll aim to give everyone the confidence\, whatever their experience\, to venture into the landscape with their camera – to discover the magic that happens when they embrace their own unique perspectives. \nRuth Grindrod has won many accolades\, including ‘Scottish Nature Photographer of the Year’ in 2019\, and featuring in LPOTY winners’ books. She regularly writes for Frames and Outdoor Photography magazines.She lives in Norfolk but regularly travels to Scotland as she never tires of the Scottish landscape.
URL:https://myphotoclub.co.uk/event/ruth-grindrod-my-vision-my-practice/
LOCATION:Online
CATEGORIES:Talk
ATTACH;FMTTYPE=image/jpeg:https://myphotoclub.co.uk/wp-content/uploads/2024/05/Ruth-duo-scaled-jpg.webp
END:VEVENT
END:VCALENDAR