BEGIN:VCALENDAR
VERSION:2.0
PRODID:-//MyPhotoClub - ECPv6.15.18//NONSGML v1.0//EN
CALSCALE:GREGORIAN
METHOD:PUBLISH
X-ORIGINAL-URL:https://myphotoclub.co.uk
X-WR-CALDESC:Events for MyPhotoClub
REFRESH-INTERVAL;VALUE=DURATION:PT1H
X-Robots-Tag:noindex
X-PUBLISHED-TTL:PT1H
BEGIN:VTIMEZONE
TZID:Europe/London
BEGIN:DAYLIGHT
TZOFFSETFROM:+0000
TZOFFSETTO:+0100
TZNAME:BST
DTSTART:20230326T010000
END:DAYLIGHT
BEGIN:STANDARD
TZOFFSETFROM:+0100
TZOFFSETTO:+0000
TZNAME:GMT
DTSTART:20231029T010000
END:STANDARD
BEGIN:DAYLIGHT
TZOFFSETFROM:+0000
TZOFFSETTO:+0100
TZNAME:BST
DTSTART:20240331T010000
END:DAYLIGHT
BEGIN:STANDARD
TZOFFSETFROM:+0100
TZOFFSETTO:+0000
TZNAME:GMT
DTSTART:20241027T010000
END:STANDARD
BEGIN:DAYLIGHT
TZOFFSETFROM:+0000
TZOFFSETTO:+0100
TZNAME:BST
DTSTART:20250330T010000
END:DAYLIGHT
BEGIN:STANDARD
TZOFFSETFROM:+0100
TZOFFSETTO:+0000
TZNAME:GMT
DTSTART:20251026T010000
END:STANDARD
END:VTIMEZONE
BEGIN:VEVENT
DTSTART;TZID=Europe/London:20240620T190000
DTEND;TZID=Europe/London:20240620T210000
DTSTAMP:20260420T193129
CREATED:20240610T184703Z
LAST-MODIFIED:20240615T192028Z
UID:10000077-1718910000-1718917200@myphotoclub.co.uk
SUMMARY:Noel Casaje - ‘What Makes an Image Compelling?’
DESCRIPTION:(As well as access to the live event\, you will receive a link to the recording\, which will be valid for 14 days) \nJoin award-winning photographer\, Noel Casaje\, for a fascinating talk exploring what elements elevate a photo from ordinary to unforgettable. \nWhat renders an image truly compelling? \nMany photographers would undoubtedly argue it’s the photograph’s contents – the subject matter and accompanying elements\, that contribute to its captivating nature. \nLandscape photographers often emphasize factors such as dramatic lighting\, spectacular cloud formations\, dynamic wave motion\, towering mountain peaks\, or a sunrise or sunset ablaze with red and orange hues. \nHowever\, while these all hold significant value\, it prompts the question: does the mere presence of one or more of these guarantee an instantly unforgettable\, impactful photo? \nUnfortunately\, not. \nJoin us as we delve into exploring the answer to this question and unravel the essence of what truly makes an image compelling. \nNoel Casaje is an award-winning photographer with a passion for capturing images that resonate with him and evoke emotion in viewers. He’s enjoys working in low light\, exploring its’ nuances\, and transforming scenes from the real to the surreal. \nNoel is proud to be included on Forbes.com ‘Top 5 Travel Photographers to Watch Out For’ and offers exclusive photo tours through his company\, Wide Horizon Visuals.
URL:https://myphotoclub.co.uk/event/noel-casaje-what-makes-an-image-compelling/
LOCATION:Online
CATEGORIES:Talk
ATTACH;FMTTYPE=image/jpeg:https://myphotoclub.co.uk/wp-content/uploads/2024/06/Noel-Duo-Pic-NEW-jpg.webp
END:VEVENT
END:VCALENDAR