BEGIN:VCALENDAR
VERSION:2.0
PRODID:-//MyPhotoClub - ECPv6.15.18//NONSGML v1.0//EN
CALSCALE:GREGORIAN
METHOD:PUBLISH
X-ORIGINAL-URL:https://myphotoclub.co.uk
X-WR-CALDESC:Events for MyPhotoClub
REFRESH-INTERVAL;VALUE=DURATION:PT1H
X-Robots-Tag:noindex
X-PUBLISHED-TTL:PT1H
BEGIN:VTIMEZONE
TZID:Europe/London
BEGIN:DAYLIGHT
TZOFFSETFROM:+0000
TZOFFSETTO:+0100
TZNAME:BST
DTSTART:20230326T010000
END:DAYLIGHT
BEGIN:STANDARD
TZOFFSETFROM:+0100
TZOFFSETTO:+0000
TZNAME:GMT
DTSTART:20231029T010000
END:STANDARD
BEGIN:DAYLIGHT
TZOFFSETFROM:+0000
TZOFFSETTO:+0100
TZNAME:BST
DTSTART:20240331T010000
END:DAYLIGHT
BEGIN:STANDARD
TZOFFSETFROM:+0100
TZOFFSETTO:+0000
TZNAME:GMT
DTSTART:20241027T010000
END:STANDARD
BEGIN:DAYLIGHT
TZOFFSETFROM:+0000
TZOFFSETTO:+0100
TZNAME:BST
DTSTART:20250330T010000
END:DAYLIGHT
BEGIN:STANDARD
TZOFFSETFROM:+0100
TZOFFSETTO:+0000
TZNAME:GMT
DTSTART:20251026T010000
END:STANDARD
END:VTIMEZONE
BEGIN:VEVENT
DTSTART;TZID=Europe/London:20240718T190000
DTEND;TZID=Europe/London:20240718T210000
DTSTAMP:20260420T205232
CREATED:20240704T151702Z
LAST-MODIFIED:20240704T151702Z
UID:10000084-1721329200-1721336400@myphotoclub.co.uk
SUMMARY:Margaret Soraya - ‘Living a Creative Life’
DESCRIPTION:(As well as access to the live event\, you will receive a link to the recording\, which will be valid for 14 days) \nIn this inspiring talk\, Margaret Soraya shares the ups and downs\, the pivots and challenges and her journey through life with a camera. \nA plan to be a part-time wedding photographer soon evolved into a successful business\, later pivoting towards landscape photography – developing invaluable skills along the way. \nMargaret now has 20 years of professional photography experience\, including portraiture\, commercial\, property\, food\, landscape as well as her wedding photography. \nShe’s navigated many highs and lows\, continuing to adapt and evolve to keep her business profitable. A story of perseverance against the odds and dedication to living a creative life. \nYou’ll hear how photography has given Margaret the freedom to live a creative life true to her own passions. Come along to hear her stories and be inspired to follow your own dreams! \nMargaret runs an online membership\, a podcast\, an annual creative festival and retreats in Harris. She’s held 3 landscape photography exhibitions and is represented by the Bosham Gallery. She still occasionally shoots weddings on the Isle of Harris. \nHer work has featured in Build It magazine\, Grand designs\, Rough Guides\, Coast\, Camera Craft\, Professional Photographer\, Outdoor Photography and many Scottish broadsheets.  She’s printed 3 photography books and is currently writing her memoir.
URL:https://myphotoclub.co.uk/event/margaret-soraya-living-a-creative-life/
LOCATION:Online
CATEGORIES:Talk
ATTACH;FMTTYPE=image/jpeg:https://myphotoclub.co.uk/wp-content/uploads/2024/07/Margaret_Duo_option1-jpg.webp
END:VEVENT
END:VCALENDAR