BEGIN:VCALENDAR
VERSION:2.0
PRODID:-//MyPhotoClub - ECPv6.15.18//NONSGML v1.0//EN
CALSCALE:GREGORIAN
METHOD:PUBLISH
X-WR-CALNAME:MyPhotoClub
X-ORIGINAL-URL:https://myphotoclub.co.uk
X-WR-CALDESC:Events for MyPhotoClub
REFRESH-INTERVAL;VALUE=DURATION:PT1H
X-Robots-Tag:noindex
X-PUBLISHED-TTL:PT1H
BEGIN:VTIMEZONE
TZID:Europe/London
BEGIN:DAYLIGHT
TZOFFSETFROM:+0000
TZOFFSETTO:+0100
TZNAME:BST
DTSTART:20230326T010000
END:DAYLIGHT
BEGIN:STANDARD
TZOFFSETFROM:+0100
TZOFFSETTO:+0000
TZNAME:GMT
DTSTART:20231029T010000
END:STANDARD
BEGIN:DAYLIGHT
TZOFFSETFROM:+0000
TZOFFSETTO:+0100
TZNAME:BST
DTSTART:20240331T010000
END:DAYLIGHT
BEGIN:STANDARD
TZOFFSETFROM:+0100
TZOFFSETTO:+0000
TZNAME:GMT
DTSTART:20241027T010000
END:STANDARD
BEGIN:DAYLIGHT
TZOFFSETFROM:+0000
TZOFFSETTO:+0100
TZNAME:BST
DTSTART:20250330T010000
END:DAYLIGHT
BEGIN:STANDARD
TZOFFSETFROM:+0100
TZOFFSETTO:+0000
TZNAME:GMT
DTSTART:20251026T010000
END:STANDARD
END:VTIMEZONE
BEGIN:VEVENT
DTSTART;TZID=Europe/London:20240725T190000
DTEND;TZID=Europe/London:20240725T210000
DTSTAMP:20260420T223520
CREATED:20240706T081736Z
LAST-MODIFIED:20240706T081736Z
UID:10000085-1721934000-1721941200@myphotoclub.co.uk
SUMMARY:Jocelyn Horsfall - ‘Flowers and Foliage - A Painterly Perspective’
DESCRIPTION:(As well as access to the live event\, you will receive a link to the recording\, which will be valid for 14 days) \n\nEnter the enchanting world of floral photography and learn to capture the beauty and serenity of nature in Jocelyn’s impressionistic style. \n\nJocelyn Horsfall is an award-winning Photographic Artist\, specialising in atmospheric and evocative images\, inspired by flowers\, foliage and the natural world. \n\nShe believes nature is good for the soul\, and strives to capture its beauty\, tranquillity and harmony in her work. She combines a strong sense of colour and form with an interest in textural effects and abstraction. \n\nAlthough Jocelyn will start by sharing some of her earlier landscapes\, this evening will focus on her flowers and foliage\, both in the studio and then outdoors through the seasons of the year. \n\nYou’ll be introduced to the different techniques she uses with her camera\, including textured glass\, soft focus\, multiple exposure and camera movement – and a little creative post processing too! \n\nJocelyn Horsfall ARPS is a well-respected expert in her field and regularly exhibits across the UK\, in both group and solo exhibitions. She has had great success with the International Garden Photographer of the year competition over the years\, this time receiving five awards.
URL:https://myphotoclub.co.uk/event/jocelyn-horsfall-flowers-and-foliage-a-painterly-perspective/
LOCATION:Online
CATEGORIES:Talk
ATTACH;FMTTYPE=image/jpeg:https://myphotoclub.co.uk/wp-content/uploads/2024/07/Jocelyn-Horsfall_Duo-jpg.webp
END:VEVENT
END:VCALENDAR