BEGIN:VCALENDAR
VERSION:2.0
PRODID:-//MyPhotoClub - ECPv6.15.18//NONSGML v1.0//EN
CALSCALE:GREGORIAN
METHOD:PUBLISH
X-ORIGINAL-URL:https://myphotoclub.co.uk
X-WR-CALDESC:Events for MyPhotoClub
REFRESH-INTERVAL;VALUE=DURATION:PT1H
X-Robots-Tag:noindex
X-PUBLISHED-TTL:PT1H
BEGIN:VTIMEZONE
TZID:Europe/London
BEGIN:DAYLIGHT
TZOFFSETFROM:+0000
TZOFFSETTO:+0100
TZNAME:BST
DTSTART:20230326T010000
END:DAYLIGHT
BEGIN:STANDARD
TZOFFSETFROM:+0100
TZOFFSETTO:+0000
TZNAME:GMT
DTSTART:20231029T010000
END:STANDARD
BEGIN:DAYLIGHT
TZOFFSETFROM:+0000
TZOFFSETTO:+0100
TZNAME:BST
DTSTART:20240331T010000
END:DAYLIGHT
BEGIN:STANDARD
TZOFFSETFROM:+0100
TZOFFSETTO:+0000
TZNAME:GMT
DTSTART:20241027T010000
END:STANDARD
BEGIN:DAYLIGHT
TZOFFSETFROM:+0000
TZOFFSETTO:+0100
TZNAME:BST
DTSTART:20250330T010000
END:DAYLIGHT
BEGIN:STANDARD
TZOFFSETFROM:+0100
TZOFFSETTO:+0000
TZNAME:GMT
DTSTART:20251026T010000
END:STANDARD
END:VTIMEZONE
BEGIN:VEVENT
DTSTART;TZID=Europe/London:20240808T190000
DTEND;TZID=Europe/London:20240808T210000
DTSTAMP:20260420T093026
CREATED:20240804T151048Z
LAST-MODIFIED:20240807T201954Z
UID:10000087-1723143600-1723150800@myphotoclub.co.uk
SUMMARY:James Kerwin - ‘Heritage & Abandoned Architecture’
DESCRIPTION:(As well as access to the live event\, you will receive a link to the recording\, which will be valid for 14 days) \nJoin us on a magical journey into forgotten\, abandoned\, architectural wonders and discover what James learnt from 10 years behind a camera. \nThis fascinating Talk highlights James’ journey into the world of interiors and his decade-long experiences behind a camera. \nHe aims to inspire you through sharing his story of life with a camera\, his love for travel and hidden architecture. \nHe will cover all you need to know – from explaining the many visuals\, the gear\, his process\, post-processing techniques\, and much more. \nJames started taking architectural photos in late 2013\, taking him into hidden corners and abandoned areas of cities\, all over the world. \nHe developed a passion for documenting the beauty of forsaken\, dilapidated\, architecture as he explores ruins\, heritage spaces\, and deserted areas. \nHis approach to photography focuses on capturing clear lines and vibrant colour palettes in the moment\, then enhancing the photos with modern post-processing methods. \nJames’s work has been recognized by several international competitions. In 2017 he won the ND Awards and Chromatic Colour Awards\, and in 2018 came second in the International Photography of the Year’s Architecture category. In 2021 his work was shortlisted for the Architectural Photographer of the Year award.
URL:https://myphotoclub.co.uk/event/james-kerwin-heritage-abandoned-architecture/
LOCATION:Online
CATEGORIES:Talk
ATTACH;FMTTYPE=image/jpeg:https://myphotoclub.co.uk/wp-content/uploads/2024/08/James-duo.jpg
END:VEVENT
END:VCALENDAR