BEGIN:VCALENDAR
VERSION:2.0
PRODID:-//MyPhotoClub - ECPv6.15.18//NONSGML v1.0//EN
CALSCALE:GREGORIAN
METHOD:PUBLISH
X-ORIGINAL-URL:https://myphotoclub.co.uk
X-WR-CALDESC:Events for MyPhotoClub
REFRESH-INTERVAL;VALUE=DURATION:PT1H
X-Robots-Tag:noindex
X-PUBLISHED-TTL:PT1H
BEGIN:VTIMEZONE
TZID:Europe/London
BEGIN:DAYLIGHT
TZOFFSETFROM:+0000
TZOFFSETTO:+0100
TZNAME:BST
DTSTART:20230326T010000
END:DAYLIGHT
BEGIN:STANDARD
TZOFFSETFROM:+0100
TZOFFSETTO:+0000
TZNAME:GMT
DTSTART:20231029T010000
END:STANDARD
BEGIN:DAYLIGHT
TZOFFSETFROM:+0000
TZOFFSETTO:+0100
TZNAME:BST
DTSTART:20240331T010000
END:DAYLIGHT
BEGIN:STANDARD
TZOFFSETFROM:+0100
TZOFFSETTO:+0000
TZNAME:GMT
DTSTART:20241027T010000
END:STANDARD
BEGIN:DAYLIGHT
TZOFFSETFROM:+0000
TZOFFSETTO:+0100
TZNAME:BST
DTSTART:20250330T010000
END:DAYLIGHT
BEGIN:STANDARD
TZOFFSETFROM:+0100
TZOFFSETTO:+0000
TZNAME:GMT
DTSTART:20251026T010000
END:STANDARD
END:VTIMEZONE
BEGIN:VEVENT
DTSTART;TZID=Europe/London:20240815T190000
DTEND;TZID=Europe/London:20240815T210000
DTSTAMP:20260420T201808
CREATED:20240804T155324Z
LAST-MODIFIED:20240812T152051Z
UID:10000088-1723748400-1723755600@myphotoclub.co.uk
SUMMARY:Alister Benn - ‘Expressive Photography - the Secret of Creativity’
DESCRIPTION:(As well as access to the live event\, you will receive a link to the recording\, which will be valid for 14 days) \nExplore the unique\, personal and expressive nature of photography with renowned Scottish landscape photographer and educator\, Alister Benn. \nIn this thought-provoking talk\, Alister will share a multitude of reasons why each of us are unique and can\, if we allow ourselves\, create images that are both personal and expressive. \nThroughout the evening\, we’ll explore the relationships we have with the world around us and gain insights into the qualities that attract and inspire us to make and share images. \nAlister believes that the question ‘Why we make photographs?’ should become the base layer of our creative and expressive development. \nAlister Benn is a renowned Scottish landscape photographer and educator living on the Isle of Lewis off the west coast of Scotland. \nHe is known for his dramatic and evocative images of natural landscapes\, often capturing the interplay of light and shadow in remote and rugged locations. \nHe emphasises the emotional and contemplative aspects of photography\, encouraging a deep connection with nature through his work. \nIn addition to his photography\, he also runs a YouTube channel\, writes ebooks and offers workshops – to teach not just technical skills but also the artistic and philosophical dimensions of landscape photography.
URL:https://myphotoclub.co.uk/event/alister-benn-expressive-photography-the-secret-of-creativity/
LOCATION:Online
CATEGORIES:Talk
ATTACH;FMTTYPE=image/jpeg:https://myphotoclub.co.uk/wp-content/uploads/2024/08/Alister-Benn_Duo_Option1.jpg
END:VEVENT
END:VCALENDAR