BEGIN:VCALENDAR
VERSION:2.0
PRODID:-//MyPhotoClub - ECPv6.15.18//NONSGML v1.0//EN
CALSCALE:GREGORIAN
METHOD:PUBLISH
X-ORIGINAL-URL:https://myphotoclub.co.uk
X-WR-CALDESC:Events for MyPhotoClub
REFRESH-INTERVAL;VALUE=DURATION:PT1H
X-Robots-Tag:noindex
X-PUBLISHED-TTL:PT1H
BEGIN:VTIMEZONE
TZID:Europe/London
BEGIN:DAYLIGHT
TZOFFSETFROM:+0000
TZOFFSETTO:+0100
TZNAME:BST
DTSTART:20230326T010000
END:DAYLIGHT
BEGIN:STANDARD
TZOFFSETFROM:+0100
TZOFFSETTO:+0000
TZNAME:GMT
DTSTART:20231029T010000
END:STANDARD
BEGIN:DAYLIGHT
TZOFFSETFROM:+0000
TZOFFSETTO:+0100
TZNAME:BST
DTSTART:20240331T010000
END:DAYLIGHT
BEGIN:STANDARD
TZOFFSETFROM:+0100
TZOFFSETTO:+0000
TZNAME:GMT
DTSTART:20241027T010000
END:STANDARD
BEGIN:DAYLIGHT
TZOFFSETFROM:+0000
TZOFFSETTO:+0100
TZNAME:BST
DTSTART:20250330T010000
END:DAYLIGHT
BEGIN:STANDARD
TZOFFSETFROM:+0100
TZOFFSETTO:+0000
TZNAME:GMT
DTSTART:20251026T010000
END:STANDARD
END:VTIMEZONE
BEGIN:VEVENT
DTSTART;TZID=Europe/London:20240926T190000
DTEND;TZID=Europe/London:20240926T210000
DTSTAMP:20260420T080340
CREATED:20240919T053324Z
LAST-MODIFIED:20240919T053324Z
UID:10000105-1727377200-1727384400@myphotoclub.co.uk
SUMMARY:Morag Paterson - 'The Magic of Collaborations’
DESCRIPTION:(As well as access to the live event\, you will receive a link to the recording\, which will be valid for 14 days) \n\nJoin Morag Paterson for a captivating exploration of her journey where she will share the value of collaboration within and beyond her field. \nMorag has a wealth of experience working alongside photographers\, writers\, ecologists\, street artists\, and even a forester. \nWhether you’re a seasoned professional or just starting out\, this talk will inspire you to think outside the box\, connect with like-minded individuals\, and unlock the magic of working together. \nMorag Paterson is a renowned photographer and artist with a passion for environmental and political themes. With her husband\, Ted Leeming\, she has led photography workshops worldwide and exhibited their work internationally. Their book\, “Zero Footprint\,” explores the intersection of art and ecology. \nA strong advocate for collaboration\, Morag is a co-host of the ICMPhotoMag Network Community and a partner in the ICM Photo Academy. Her work is characterized by its abstract beauty and commitment to alternative processes. She is also a regular mentor and workshop leader\, sharing her knowledge and expertise with aspiring photographers.
URL:https://myphotoclub.co.uk/event/morag-paterson-the-magic-of-collaborations/
LOCATION:Online
CATEGORIES:Talk
ATTACH;FMTTYPE=image/jpeg:https://myphotoclub.co.uk/wp-content/uploads/2024/09/MaragPaterson_duo.jpg
END:VEVENT
END:VCALENDAR