BEGIN:VCALENDAR
VERSION:2.0
PRODID:-//MyPhotoClub - ECPv6.15.18//NONSGML v1.0//EN
CALSCALE:GREGORIAN
METHOD:PUBLISH
X-WR-CALNAME:MyPhotoClub
X-ORIGINAL-URL:https://myphotoclub.co.uk
X-WR-CALDESC:Events for MyPhotoClub
REFRESH-INTERVAL;VALUE=DURATION:PT1H
X-Robots-Tag:noindex
X-PUBLISHED-TTL:PT1H
BEGIN:VTIMEZONE
TZID:Europe/London
BEGIN:DAYLIGHT
TZOFFSETFROM:+0000
TZOFFSETTO:+0100
TZNAME:BST
DTSTART:20230326T010000
END:DAYLIGHT
BEGIN:STANDARD
TZOFFSETFROM:+0100
TZOFFSETTO:+0000
TZNAME:GMT
DTSTART:20231029T010000
END:STANDARD
BEGIN:DAYLIGHT
TZOFFSETFROM:+0000
TZOFFSETTO:+0100
TZNAME:BST
DTSTART:20240331T010000
END:DAYLIGHT
BEGIN:STANDARD
TZOFFSETFROM:+0100
TZOFFSETTO:+0000
TZNAME:GMT
DTSTART:20241027T010000
END:STANDARD
BEGIN:DAYLIGHT
TZOFFSETFROM:+0000
TZOFFSETTO:+0100
TZNAME:BST
DTSTART:20250330T010000
END:DAYLIGHT
BEGIN:STANDARD
TZOFFSETFROM:+0100
TZOFFSETTO:+0000
TZNAME:GMT
DTSTART:20251026T010000
END:STANDARD
END:VTIMEZONE
BEGIN:VEVENT
DTSTART;TZID=Europe/London:20241003T190000
DTEND;TZID=Europe/London:20241003T210000
DTSTAMP:20260420T065528
CREATED:20240927T141855Z
LAST-MODIFIED:20240927T141855Z
UID:10000106-1727982000-1727989200@myphotoclub.co.uk
SUMMARY:Caroline Preece - ‘Tools not Rules'
DESCRIPTION:(As well as access to the live event\, you will receive a link to the recording\, which will be valid for 14 days) \nCaroline will share how to use composition to communicate your personal perspective on the world and evoke specific emotions in your viewers. \nJoin us for a thought-provoking exploration of the visual language of photography and the psychology behind how viewers interpret images. \nBy understanding these principles\, you’ll be empowered to create more impactful images that resonate with your audience. \nForget about rigid rules and guidelines. Explore a new way of thinking about photography and unlock your full creative potential. \nCaroline grew up immersed in the works of masters like Henri Cartier Bresson\, Ansel Adams\, and Michael Kenna. Her primary focus is street photography\, but he also has a passion for seascapes and landscapes. She is drawn to human elements\, chance occurrences\, captured moments\, emotions\, and the surreal and strives for a balanced approach. \nHer achievements include the FRAMES magazine digital companion 2020 and 2024; Land & Light exhibition in the Mall Galleries\, Pall Mall (2024); London Salon of Photography (2024); International Photography Awards Street Category – Highly Commended (2023); Final shortlist of Landscape Photographer of the Year (2023).
URL:https://myphotoclub.co.uk/event/caroline-preece-tools-not-rules/
LOCATION:Online
CATEGORIES:Talk
ATTACH;FMTTYPE=image/jpeg:https://myphotoclub.co.uk/wp-content/uploads/2024/09/Duo-Pics-for-MPC_MASTER.jpg
END:VEVENT
END:VCALENDAR