BEGIN:VCALENDAR
VERSION:2.0
PRODID:-//MyPhotoClub - ECPv6.15.18//NONSGML v1.0//EN
CALSCALE:GREGORIAN
METHOD:PUBLISH
X-WR-CALNAME:MyPhotoClub
X-ORIGINAL-URL:https://myphotoclub.co.uk
X-WR-CALDESC:Events for MyPhotoClub
REFRESH-INTERVAL;VALUE=DURATION:PT1H
X-Robots-Tag:noindex
X-PUBLISHED-TTL:PT1H
BEGIN:VTIMEZONE
TZID:Europe/London
BEGIN:DAYLIGHT
TZOFFSETFROM:+0000
TZOFFSETTO:+0100
TZNAME:BST
DTSTART:20230326T010000
END:DAYLIGHT
BEGIN:STANDARD
TZOFFSETFROM:+0100
TZOFFSETTO:+0000
TZNAME:GMT
DTSTART:20231029T010000
END:STANDARD
BEGIN:DAYLIGHT
TZOFFSETFROM:+0000
TZOFFSETTO:+0100
TZNAME:BST
DTSTART:20240331T010000
END:DAYLIGHT
BEGIN:STANDARD
TZOFFSETFROM:+0100
TZOFFSETTO:+0000
TZNAME:GMT
DTSTART:20241027T010000
END:STANDARD
BEGIN:DAYLIGHT
TZOFFSETFROM:+0000
TZOFFSETTO:+0100
TZNAME:BST
DTSTART:20250330T010000
END:DAYLIGHT
BEGIN:STANDARD
TZOFFSETFROM:+0100
TZOFFSETTO:+0000
TZNAME:GMT
DTSTART:20251026T010000
END:STANDARD
END:VTIMEZONE
BEGIN:VEVENT
DTSTART;TZID=Europe/London:20241031T190000
DTEND;TZID=Europe/London:20241031T210000
DTSTAMP:20260420T041816
CREATED:20241006T041435Z
LAST-MODIFIED:20241016T100019Z
UID:10000110-1730401200-1730408400@myphotoclub.co.uk
SUMMARY:Brendan Ó Sé  - ‘Storytelling and Travel Photography with the Smartphone’
DESCRIPTION:(As well as access to the live event\, you will receive a link to the recording\, which will be valid for 14 days) \nAfter his popular debut in March\, Smartphone photography and storytelling whizz\, Brendan Ó Sé\, returns to wow us with his brand-new Talk! \nBrendan will explore how the limitations of the smartphone heightened his visual awareness\, enhanced his storytelling and took his photography to the next level.   \nHe’ll explain how not relying on his DSLR allowed him to see and create in unusual ways\, resulting in more striking and unique Traveland Street images.  \nHe will demonstrate\, through sharing his work\, how photography is not about cameras\, but all about the craft of composition\, light and story. \nBy the end of this talk\, you’ll discover how having your smartphone with you at all times\, can shift you from passive observer to an active creative photographer.  \nBrendan is from Cork\, Ireland and exhibits his work all around the world and has won many international awards including ‘iPhone Photographer of the Year’ in 2017.  \nAs well as ‘MyPhotoClub Smartphone Tuition Sessions’\, he also runs photography workshops with the Photo Museum of Ireland and The Glucksman Gallery. He’s also co-founder of the Mobiography Awards.
URL:https://myphotoclub.co.uk/event/brendan-o-se-storytelling-and-travel-photography-with-the-smartphone/
LOCATION:Online
CATEGORIES:Talk
ATTACH;FMTTYPE=image/jpeg:https://myphotoclub.co.uk/wp-content/uploads/2024/10/Duo-Pics-for-Brendan-Talk.jpg
END:VEVENT
END:VCALENDAR