BEGIN:VCALENDAR
VERSION:2.0
PRODID:-//MyPhotoClub - ECPv6.15.18//NONSGML v1.0//EN
CALSCALE:GREGORIAN
METHOD:PUBLISH
X-WR-CALNAME:MyPhotoClub
X-ORIGINAL-URL:https://myphotoclub.co.uk
X-WR-CALDESC:Events for MyPhotoClub
REFRESH-INTERVAL;VALUE=DURATION:PT1H
X-Robots-Tag:noindex
X-PUBLISHED-TTL:PT1H
BEGIN:VTIMEZONE
TZID:Europe/London
BEGIN:DAYLIGHT
TZOFFSETFROM:+0000
TZOFFSETTO:+0100
TZNAME:BST
DTSTART:20230326T010000
END:DAYLIGHT
BEGIN:STANDARD
TZOFFSETFROM:+0100
TZOFFSETTO:+0000
TZNAME:GMT
DTSTART:20231029T010000
END:STANDARD
BEGIN:DAYLIGHT
TZOFFSETFROM:+0000
TZOFFSETTO:+0100
TZNAME:BST
DTSTART:20240331T010000
END:DAYLIGHT
BEGIN:STANDARD
TZOFFSETFROM:+0100
TZOFFSETTO:+0000
TZNAME:GMT
DTSTART:20241027T010000
END:STANDARD
BEGIN:DAYLIGHT
TZOFFSETFROM:+0000
TZOFFSETTO:+0100
TZNAME:BST
DTSTART:20250330T010000
END:DAYLIGHT
BEGIN:STANDARD
TZOFFSETFROM:+0100
TZOFFSETTO:+0000
TZNAME:GMT
DTSTART:20251026T010000
END:STANDARD
END:VTIMEZONE
BEGIN:VEVENT
DTSTART;TZID=Europe/London:20241212T190000
DTEND;TZID=Europe/London:20241212T210000
DTSTAMP:20260419T221809
CREATED:20241128T111533Z
LAST-MODIFIED:20241207T135942Z
UID:10000122-1734030000-1734037200@myphotoclub.co.uk
SUMMARY:Colin Westgate - ‘Iceland in Winter’ (Xmas free gift)
DESCRIPTION:Festive gift from MyPhotoClub! \nWe’d love to welcome you to this Thursday Talk  for free: \n(As well as access to the live event\, you will receive a link to the recording\, which will be valid for 14 days) \nJoin Colin Westgate\, Master Photographer with over 60 years of experience\, as he shares his passion for capturing the beauty of Iceland. \nColin believes that Iceland’s unique volcanic landscape provides photographers with ideal conditions and numerous opportunities to create awe-inspiring images. \nIn this talk\, you’ll discover Iceland’s distinctive landscapes\, including lava fields\, rivers\, glaciers\, mountains\, hot springs\, and geysers\, that offer endless photographic inspiration! \nLearn how to harness the special winter light and long nights to capture stunning photographs\, including the elusive Northern Lights \nExplore the potential of Iceland’s winter wonderland\, with its snow-covered landscapes and frozen waterways\, to create captivating images \nColin Westgate has a deep-rooted passion for capturing the beauty of Iceland. He first visited in 1983 and has returned over 30 times! \nColin was awarded the Fellowship of the Royal Photographic Society in 1976 and Master of the International Federation of Photographic Art in 1990. More recently\, he was awarded Master of the Photographic Alliance of Great Britain.
URL:https://myphotoclub.co.uk/event/colin-westgate-iceland-in-winter/
LOCATION:Online
CATEGORIES:Talk
ATTACH;FMTTYPE=image/jpeg:https://myphotoclub.co.uk/wp-content/uploads/2024/11/Colin-duo.jpg
END:VEVENT
END:VCALENDAR