BEGIN:VCALENDAR
VERSION:2.0
PRODID:-//MyPhotoClub - ECPv6.15.18//NONSGML v1.0//EN
CALSCALE:GREGORIAN
METHOD:PUBLISH
X-ORIGINAL-URL:https://myphotoclub.co.uk
X-WR-CALDESC:Events for MyPhotoClub
REFRESH-INTERVAL;VALUE=DURATION:PT1H
X-Robots-Tag:noindex
X-PUBLISHED-TTL:PT1H
BEGIN:VTIMEZONE
TZID:Europe/London
BEGIN:DAYLIGHT
TZOFFSETFROM:+0000
TZOFFSETTO:+0100
TZNAME:BST
DTSTART:20230326T010000
END:DAYLIGHT
BEGIN:STANDARD
TZOFFSETFROM:+0100
TZOFFSETTO:+0000
TZNAME:GMT
DTSTART:20231029T010000
END:STANDARD
BEGIN:DAYLIGHT
TZOFFSETFROM:+0000
TZOFFSETTO:+0100
TZNAME:BST
DTSTART:20240331T010000
END:DAYLIGHT
BEGIN:STANDARD
TZOFFSETFROM:+0100
TZOFFSETTO:+0000
TZNAME:GMT
DTSTART:20241027T010000
END:STANDARD
BEGIN:DAYLIGHT
TZOFFSETFROM:+0000
TZOFFSETTO:+0100
TZNAME:BST
DTSTART:20250330T010000
END:DAYLIGHT
BEGIN:STANDARD
TZOFFSETFROM:+0100
TZOFFSETTO:+0000
TZNAME:GMT
DTSTART:20251026T010000
END:STANDARD
END:VTIMEZONE
BEGIN:VEVENT
DTSTART;TZID=Europe/London:20241219T190000
DTEND;TZID=Europe/London:20241219T210000
DTSTAMP:20260420T081837
CREATED:20241130T154721Z
LAST-MODIFIED:20241207T140027Z
UID:10000123-1734634800-1734642000@myphotoclub.co.uk
SUMMARY:Shona Perkins - ‘Blurred Perceptions’ (Xmas free gift)
DESCRIPTION:Festive gift from MyPhotoClub! \nWe’d love to welcome you to this Thursday Talk  for free: \n(As well as access to the live event\, you will receive a link to the recording\, which will be valid for 14 days) \nICM Seascape Photographer\, Shona\, shares how her passion for art has elevated her work and led to an inspiring collaboration with a painter. \nInfluenced by contemporary art and abstract minimalism\, Shona has spent several years developing her ICM practice\, creating a fusion between painting and photography. \nIn this talk\, discover the connection between art and photography and how Shona’s love of the sea\, shared with artist Fee Dickson Reid\, creates a unique synergy and inspired their debut exhibition. \nBlurred Perceptions explores the blurred lines between photography and painting\, between reality and imagination. The softening of time\, light and perception in the work of both artists\, inviting the viewer to slow down\, to be present and more considered\, evoking emotion and creating a sense of calm. \nA contributor to ICM Photography Magazine and a graduate of the British Academy of Photography\, Shona brings a wealth of experience as a speaker\, mentor\, and creative coach. \nFor the past three years\, she has led photography workshops and retreats\, helping others discover their creative potential.
URL:https://myphotoclub.co.uk/event/shona-perkins-blurred-perceptions/
LOCATION:Online
CATEGORIES:Talk
ATTACH;FMTTYPE=image/jpeg:https://myphotoclub.co.uk/wp-content/uploads/2024/11/Duo-Pic_Shona_Option-1.jpg
END:VEVENT
END:VCALENDAR