BEGIN:VCALENDAR
VERSION:2.0
PRODID:-//MyPhotoClub - ECPv6.15.18//NONSGML v1.0//EN
CALSCALE:GREGORIAN
METHOD:PUBLISH
X-ORIGINAL-URL:https://myphotoclub.co.uk
X-WR-CALDESC:Events for MyPhotoClub
REFRESH-INTERVAL;VALUE=DURATION:PT1H
X-Robots-Tag:noindex
X-PUBLISHED-TTL:PT1H
BEGIN:VTIMEZONE
TZID:Europe/London
BEGIN:DAYLIGHT
TZOFFSETFROM:+0000
TZOFFSETTO:+0100
TZNAME:BST
DTSTART:20240331T010000
END:DAYLIGHT
BEGIN:STANDARD
TZOFFSETFROM:+0100
TZOFFSETTO:+0000
TZNAME:GMT
DTSTART:20241027T010000
END:STANDARD
BEGIN:DAYLIGHT
TZOFFSETFROM:+0000
TZOFFSETTO:+0100
TZNAME:BST
DTSTART:20250330T010000
END:DAYLIGHT
BEGIN:STANDARD
TZOFFSETFROM:+0100
TZOFFSETTO:+0000
TZNAME:GMT
DTSTART:20251026T010000
END:STANDARD
BEGIN:DAYLIGHT
TZOFFSETFROM:+0000
TZOFFSETTO:+0100
TZNAME:BST
DTSTART:20260329T010000
END:DAYLIGHT
BEGIN:STANDARD
TZOFFSETFROM:+0100
TZOFFSETTO:+0000
TZNAME:GMT
DTSTART:20261025T010000
END:STANDARD
END:VTIMEZONE
BEGIN:VEVENT
DTSTART;TZID=Europe/London:20250403T190000
DTEND;TZID=Europe/London:20250403T210000
DTSTAMP:20260419T234514
CREATED:20250323T105458Z
LAST-MODIFIED:20250323T105458Z
UID:11000158-1743706800-1743714000@myphotoclub.co.uk
SUMMARY:Judy Hancock Holland - 'Black & White: Why & How'
DESCRIPTION:(As well as access to the live event\, you will receive a link to the recording\, valid for 14 days) \n\nDiscover when to choose black and white\, how to compose specifically for monochrome\, and master conversion techniques for timeless images. \n\nBlack and white can offer a classic look for your photographs\, but not all images are suited to this kind of treatment. \n\nLearn how to identify subjects that will shine in monochrome and how to compose specifically with black and white in mind. \n\nJudy will share professional techniques for converting your RAW files to black and white\, revealing the methods that bring out the best tonal range and impact. \n\nUnderstand how contrast\, texture\, form\, and light take on new importance when colour is removed from the equation. \n\nJudy Hancock Holland is an award-winning Canadian photographic artist and lifelong educator based on beautiful Vancouver Island\, BC. \n\nHer work has been exhibited in North America and Europe\, and her YouTube tutorials have garnered over 350\,000 views. \n\nJudy’s artistic approach is drawn to symbolism\, light\, and sensual forms\, with her work often reflecting a lifelong search for meaning and peace. Her photography invites viewers to see the world through her sense of wonder and awe.
URL:https://myphotoclub.co.uk/event/judy-hancock-holland-black-white-why-how/
LOCATION:Online
CATEGORIES:Talk
ATTACH;FMTTYPE=image/jpeg:https://myphotoclub.co.uk/wp-content/uploads/2025/03/Judy-duo.jpg
END:VEVENT
END:VCALENDAR