BEGIN:VCALENDAR
VERSION:2.0
PRODID:-//MyPhotoClub - ECPv6.15.18//NONSGML v1.0//EN
CALSCALE:GREGORIAN
METHOD:PUBLISH
X-WR-CALNAME:MyPhotoClub
X-ORIGINAL-URL:https://myphotoclub.co.uk
X-WR-CALDESC:Events for MyPhotoClub
REFRESH-INTERVAL;VALUE=DURATION:PT1H
X-Robots-Tag:noindex
X-PUBLISHED-TTL:PT1H
BEGIN:VTIMEZONE
TZID:Europe/London
BEGIN:DAYLIGHT
TZOFFSETFROM:+0000
TZOFFSETTO:+0100
TZNAME:BST
DTSTART:20250330T010000
END:DAYLIGHT
BEGIN:STANDARD
TZOFFSETFROM:+0100
TZOFFSETTO:+0000
TZNAME:GMT
DTSTART:20251026T010000
END:STANDARD
BEGIN:DAYLIGHT
TZOFFSETFROM:+0000
TZOFFSETTO:+0100
TZNAME:BST
DTSTART:20260329T010000
END:DAYLIGHT
BEGIN:STANDARD
TZOFFSETFROM:+0100
TZOFFSETTO:+0000
TZNAME:GMT
DTSTART:20261025T010000
END:STANDARD
BEGIN:DAYLIGHT
TZOFFSETFROM:+0000
TZOFFSETTO:+0100
TZNAME:BST
DTSTART:20270328T010000
END:DAYLIGHT
BEGIN:STANDARD
TZOFFSETFROM:+0100
TZOFFSETTO:+0000
TZNAME:GMT
DTSTART:20271031T010000
END:STANDARD
BEGIN:DAYLIGHT
TZOFFSETFROM:+0000
TZOFFSETTO:+0100
TZNAME:BST
DTSTART:20280326T010000
END:DAYLIGHT
BEGIN:STANDARD
TZOFFSETFROM:+0100
TZOFFSETTO:+0000
TZNAME:GMT
DTSTART:20281029T010000
END:STANDARD
END:VTIMEZONE
BEGIN:VEVENT
DTSTART;VALUE=DATE:20260924
DTEND;VALUE=DATE:20261004
DTSTAMP:20260422T232037
CREATED:20260324T164544Z
LAST-MODIFIED:20260324T165042Z
UID:11000239-1790208000-1791071999@myphotoclub.co.uk
SUMMARY:Photo Tour - Iceland (Westfjords) with Paul Sansome
DESCRIPTION:Enjoy a unique experience in Iceland’s most untouched and unphotographed: – The Westfjords; vast beaches\, towering cliffs\, remote fishing villages and powerful waterfalls. \nLed by experienced landscape and wildlife photographer Paul Sansome: – ” Iceland is my favourite place and I have made over 25 trips there; this tour is designed to give you time\, flexibility and access to locations that many visitors never reach” \nFeatures \n\nIconic location\, on every photographer’s ‘bucket list’\nSmall group (max 5 photographers) for more personal guidance\nFlexible itinerary shaped by weather and group interests\nAccess to remote\, lesser-known locations with relatively short walking distances\nStrong focus on composition\, light and creativity\nStunning landscapes\, architecture\, people and wildlife\n\nPaul describes the Westfjords as his favourite region in Iceland\, offering an exceptional variety of subjects in a compact area . \nFor full itinerary and booking information please email: – roy@myphotoclub.co.uk \nWhat You’ll Photograph \n\nRaudisandur (Red Sand Beach) – vast shoreline\, reflections\, abstract patterns\nDynjandi Waterfall – one of Iceland’s most striking waterfalls\nArnarfjordur & Onundarfjordur – classic fjord landscapes\nRemote coastal scenes – dramatic cliffs and ever-changing light\nDjupavik Herring Factory – powerful\, atmospheric decay photography\nIsafjordur region – fishing harbours and mountain backdrops\nReykjavik architectural icons – Hallgrímskirkja\, Harpa\, Sun Voyager\n\nA Flexible\, Photographer-Led Approach \nThis is not a rigid sightseeing trip\, the itinerary is deliberately flexible so that we can: \n\nRespond to weather and light\nReturn to locations when conditions improve\nStop whenever photographic opportunities appear\n\nSome of the best images happen between planned stops — and we make the most of those moments. \nTour Overview \nDuration: 9 nights\nStart/End: Keflavik Airport\, Iceland\nDates: Thursday 24th September 2026 – Saturday 3rd October \nPrice: based on 5 clients\, £3800     (There is no single supplement). \nAccommodation & Travel \n\nComfortable hotels and guesthouses throughout\nTwo nights in remote Djupavik for a unique experience\nTravel by private vehicle\nScenic ferry crossing included\n\nAll accommodation is on a bed & breakfast basis\, giving flexibility for evening meals (allow approx. £40–£50 per evening) . \nFitness Level \n\nMostly short walks on level ground\nSome optional light scrambling for viewpoints\nMany locations easily accessible\, including beaches\n\nThis tour is suitable for most photographers with a reasonable level of mobility. \nWho This Tour Is For \n\nPhotography enthusiasts who want more than a standard trip\nThose looking to improve their landscape\, wildlife\, architecture and travel photography\nAnyone wanting to experience Iceland\, especially beyond the usual locations\n\nYour Tour Leader  \nPaul Sansome is one of the UK’s most successful fine art photographers\, selling photography to hang on people’s walls since becoming a professional in 2003. Paul has been Highly Commended in the prestigious Wildlife Photographer of the Year\, has many times featured in Landscape Photographer of the Year and in 2017  won the first of several major awards in the Travel Photographer of the Year competition. For the past 20 years\, Paul has been leading photography holidays each year to countries that include Italy\, Morocco\, Iceland\, Myanmar\, Vietnam and India. \nPaul is always available and the guidance given when alongside someone taking the photographs is probably the most instructive. As well as being attractive to the photographer\, the itinerary will also appeal to people wishing to experience a more in-depth view of the Icelandic way of life. The Tours attract people with all levels of photography experience.
URL:https://myphotoclub.co.uk/event/iceland-westfjords-with-paul-sansome/
LOCATION:Iceland\, Iceland
CATEGORIES:Tour
ATTACH;FMTTYPE=image/jpeg:https://myphotoclub.co.uk/wp-content/uploads/2026/03/Duo-Paul-Iceland.jpg
END:VEVENT
BEGIN:VEVENT
DTSTART;VALUE=DATE:20261114
DTEND;VALUE=DATE:20261124
DTSTAMP:20260422T232038
CREATED:20260422T085735Z
LAST-MODIFIED:20260422T093933Z
UID:11000248-1794614400-1795478399@myphotoclub.co.uk
SUMMARY:Smartphone Photo Tour - Kathmandu\, Nepal with Jet Lendon
DESCRIPTION:Ancient temples\, sacred rituals\, UNESCO heritage sites\, vibrant streets and Himalayan views; Kathmandu is one of the most visually rich destinations on Earth. \nKathmandu\, Nepal – Smartphone Photography creative retreat – 14th November – 23rd November 2026 \nLed by Jet Lendon a photographer and educator who founded Jet Black Squares\, which leads smartphone photography workshops internationally. Clients include Meta\, Samsung\, LinkedIn\, Pinterest\, KPMG and Vodafone. Jet is an enthusiastic and energetic advocate and highly regarded for teaching how to create and edit striking professional-quality images using a smartphone. \nTour curated by Bill Norman. \nFeatures \n\nIconic location\, on every photographer’s ‘bucket list’\nPhotograph the final days of the Chhath Puja Festival\nVisit celebrated UNESCO World Heritage Sites\nExplore temples\, monasteries and historic squares\nPhotograph local artisans at work\nExperience a sunrise Everest mountain flight (weather permitting)\nVisit the cremation ghats at Pashupatinath\nOvernight stay in Nagarkot for Himalayan sunrise views\nTravel with experienced local guides throughout\n\n  \nFor full itinerary and booking information please email: – roy@myphotoclub.co.uk \nDesigned for Smartphone Photographers \nThis tour is ideal for smartphone image creators who want depth\, variety and authentic experiences. \nExpect opportunities for: \n\nStreet photography\nPortraits\nCultural storytelling\nArchitecture\nLandscape photography\nFestival photography\n\nSuitable for all experience levels. \nWhat’s Included \n\n9 nights hotel accommodation\nSingle occupancy (unless requested otherwise)\nBreakfast daily\nAll internal flights and road travel\nAirport transfers\nExcursions and admissions\nPhotography fees where required\nEverest scenic flight (weather permitting)\nLocal guides and support staff\nGuide and staff insurance\nExclusive commemorative hoodie\, t-shirt and bag\n\nNot Included \n\nInternational flights\nNepal visa\nLunches and evening meals\nDrinks and personal spending\nTips for guides and drivers\n\nPrice \n£2\,950 per person \nEarly Bird Price: £2\,495 (book by 30th June)\nCouples Saving: £200 off when sharing \nWhy Book Early \nThis tour is limited to 8 places to ensure a personal experience\, easier movement and stronger photographic support. \nReserve Your Place \nExperience Nepal through your camera with expert tuition in one of the most inspiring destinations anywhere. \nSecure your place now. \nFor full itinerary and booking information please email: – roy@myphotoclub.co.uk
URL:https://myphotoclub.co.uk/event/photo-tour-kathmandu-nepal-with-jet-lendon/
LOCATION:Kathmandhu
CATEGORIES:Tour
ATTACH;FMTTYPE=image/jpeg:https://myphotoclub.co.uk/wp-content/uploads/2026/04/Copy-of-Untitled-4.jpg
END:VEVENT
BEGIN:VEVENT
DTSTART;VALUE=DATE:20270121
DTEND;VALUE=DATE:20270128
DTSTAMP:20260422T232038
CREATED:20260325T084324Z
LAST-MODIFIED:20260325T084324Z
UID:11000240-1800489600-1801094399@myphotoclub.co.uk
SUMMARY:Photo Tour - Japan with Mark Hemmings
DESCRIPTION:A fantastic photography tour through Japan\, visually rich and culturally fascinating: – the electric streets of Tokyo\, the peaceful temples of Kyoto\, and the snowy mountains of Nagano. \nLed by internationally recognised travel photographer and workshop instructor Mark Hemmings\, this is a carefully designed experience that blends photography\, culture and travel. \nFeatures \n\nIconic location\, on every photographer’s ‘bucket list’\nLed by Mark Hemmings\, who has run Japan workshops since 2005\nDesigned to deliver both photographic improvement and a memorable travel experience.\nSmall group (max 12 photographers)\nAll-inclusive – accommodation\, meals\, transport and tuition\nTravel on Japan’s famous bullet trains\nStay in high-quality hotels and traditional inns\nPhotograph a wide variety of subjects in a single trip\n\nMark said “The country of Japan is a really important travel destination. What it offers for food\, nature\, cities\, architecture\, wildlife\, and especially photography\, is amazing. That’s why I’m inviting you to the Japan trip of a lifetime”. \nFor full itinerary and booking information please email: – roy@myphotoclub.co.uk \nWhat You’ll Photograph \n\nTokyo at night – neon lights\, street scenes\, long exposures\nJapanese Snow Monkeys – wildlife in natural hot springs\nKyoto temples & streets – traditional culture and architecture\nBamboo Forest & Golden Pavilion – iconic Japanese landscapes\nMatsumoto Castle – classic samurai architecture\nEnoshima & Kamakura – coastal scenes with views of Mount Fuji\nPeople\, people\, people\n\nA Complete Photography Experience \nThis tour is designed to cover a wide range of photographic styles: \n\nStreet photography\nArchitecture\nLandscape\nWildlife\nCultural storytelling\n\nWhether you are using a professional camera or a smartphone\, you will receive practical guidance to improve both your technical and creative skills. \nTour Overview \nDuration: 7 days\nDates: 21–27 January 2027\nStart/End: Tokyo \nPrice: £3\,695 per person (double occupancy)\nSingle supplement: £370 \nLocations include: \n\nTokyo\nEnoshima & Kamakura\nKyoto\nMatsumoto\nNagano (Snow Monkeys)\n\nTravel & Accommodation \n\nHigh-quality hotels throughout\nTraditional Japanese inn (Shibu Onsen) experience\nBullet train travel between cities\nAll in-country transport included (trains\, taxis\, subway)\n\nThis is a fully organised experience so you can focus on photography. \nWhat’s Included \n\nAll accommodation\nAll meals\nAll transport within Japan\nAll entrance fees\nFull photographic tuition throughout\nAirport transfers (on tour start/end dates)\n\nNot included: \n\nInternational flights to/from Japan\nDrinks and incidental snacks\n\nFitness & Practical Considerations \n\nSignificant walking each day\nSome gentle hiking (e.g. snow monkey location)\nManaging your own luggage between locations\n\nThe pace is relaxed\, but you should be comfortable being active throughout the day. \nWho This Tour Is For \n\nPhotography enthusiasts at any level\, looking to improve their nature\, city\, architecture\, street\, landscape\, people and wildlife photography\nThose wanting both learning and travel experiences\nAnyone interested in culture\, food and visual storytelling\n\nNo specialist equipment is required — all camera types are welcome. \nYour Tour Leader \nMark Hemmings \nAn experienced travel photographer and workshop leader from Saint John\, New Brunswick\, Canada\, Mark has been running Japan tours for nearly two decades. \nMark began his career in the late 1990′s when working on feature films and movies as a ‘stills’ and location photographer. In 1999 Mark moved to Japan for a year to learn advertising photography. In 2004 he developed his skills as a photography workshop instructor\, teaching people how to create better photographs in such diverse places as Mexico\, The Caribbean\, Jordan\, Israel\, England\, Korea\, Hungary\, Romania and Transylvania. Mark has published “iPhone Photography For Dummies” and “Android Smartphone Photography for Dummies” which are available worldwide.
URL:https://myphotoclub.co.uk/event/japan-with-mark-hemmings/
LOCATION:Japan
CATEGORIES:Tour
ATTACH;FMTTYPE=image/jpeg:https://myphotoclub.co.uk/wp-content/uploads/2025/12/duo-monkey.jpg
END:VEVENT
END:VCALENDAR